BEGIN:VCALENDAR
VERSION:2.0
PRODID:-//Hannover Kids - ECPv6.15.18//NONSGML v1.0//EN
CALSCALE:GREGORIAN
METHOD:PUBLISH
X-WR-CALNAME:Hannover Kids
X-ORIGINAL-URL:https://hannoverkids.de
X-WR-CALDESC:Veranstaltungen für Hannover Kids
REFRESH-INTERVAL;VALUE=DURATION:PT1H
X-Robots-Tag:noindex
X-PUBLISHED-TTL:PT1H
BEGIN:VTIMEZONE
TZID:Europe/Berlin
BEGIN:DAYLIGHT
TZOFFSETFROM:+0100
TZOFFSETTO:+0200
TZNAME:CEST
DTSTART:20250330T010000
END:DAYLIGHT
BEGIN:STANDARD
TZOFFSETFROM:+0200
TZOFFSETTO:+0100
TZNAME:CET
DTSTART:20251026T010000
END:STANDARD
BEGIN:DAYLIGHT
TZOFFSETFROM:+0100
TZOFFSETTO:+0200
TZNAME:CEST
DTSTART:20260329T010000
END:DAYLIGHT
BEGIN:STANDARD
TZOFFSETFROM:+0200
TZOFFSETTO:+0100
TZNAME:CET
DTSTART:20261025T010000
END:STANDARD
BEGIN:DAYLIGHT
TZOFFSETFROM:+0100
TZOFFSETTO:+0200
TZNAME:CEST
DTSTART:20270328T010000
END:DAYLIGHT
BEGIN:STANDARD
TZOFFSETFROM:+0200
TZOFFSETTO:+0100
TZNAME:CET
DTSTART:20271031T010000
END:STANDARD
END:VTIMEZONE
BEGIN:VEVENT
DTSTART;TZID=Europe/Berlin:20260303T160000
DTEND;TZID=Europe/Berlin:20260303T160000
DTSTAMP:20260419T190629
CREATED:20260217T083903Z
LAST-MODIFIED:20260217T083903Z
UID:1448-1772553600-1772553600@hannoverkids.de
SUMMARY:VR-Special
DESCRIPTION:Thechnothek Hannover\, für alle ab 12 J.\, die sich für virtuelle Erlebnisse interessieren und in die Welt der VR-Brillen eintauchen möchten\, 16-17 Uhr\, ohne Anm.\, kostenfrei\, Stadtbibliothek\, Hildesheimerstr. 12
URL:https://hannoverkids.de/event/vr-special/
END:VEVENT
BEGIN:VEVENT
DTSTART;TZID=Europe/Berlin:20260303T190000
DTEND;TZID=Europe/Berlin:20260303T190000
DTSTAMP:20260419T190629
CREATED:20260217T083903Z
LAST-MODIFIED:20260217T083903Z
UID:1449-1772564400-1772564400@hannoverkids.de
SUMMARY:Zirkeltraining
DESCRIPTION:für Fortgeschrittene von 19-20 Uhr\, B.e.a.t. Athletikzentrum Sehnde\, www.beat-athlethik.de\, (jed. Di.)
URL:https://hannoverkids.de/event/zirkeltraining/
END:VEVENT
END:VCALENDAR