BEGIN:VCALENDAR
VERSION:2.0
PRODID:-//Hannover Kids - ECPv6.15.18//NONSGML v1.0//EN
CALSCALE:GREGORIAN
METHOD:PUBLISH
X-WR-CALNAME:Hannover Kids
X-ORIGINAL-URL:https://hannoverkids.de
X-WR-CALDESC:Veranstaltungen für Hannover Kids
REFRESH-INTERVAL;VALUE=DURATION:PT1H
X-Robots-Tag:noindex
X-PUBLISHED-TTL:PT1H
BEGIN:VTIMEZONE
TZID:Europe/Berlin
BEGIN:DAYLIGHT
TZOFFSETFROM:+0100
TZOFFSETTO:+0200
TZNAME:CEST
DTSTART:20250330T010000
END:DAYLIGHT
BEGIN:STANDARD
TZOFFSETFROM:+0200
TZOFFSETTO:+0100
TZNAME:CET
DTSTART:20251026T010000
END:STANDARD
BEGIN:DAYLIGHT
TZOFFSETFROM:+0100
TZOFFSETTO:+0200
TZNAME:CEST
DTSTART:20260329T010000
END:DAYLIGHT
BEGIN:STANDARD
TZOFFSETFROM:+0200
TZOFFSETTO:+0100
TZNAME:CET
DTSTART:20261025T010000
END:STANDARD
BEGIN:DAYLIGHT
TZOFFSETFROM:+0100
TZOFFSETTO:+0200
TZNAME:CEST
DTSTART:20270328T010000
END:DAYLIGHT
BEGIN:STANDARD
TZOFFSETFROM:+0200
TZOFFSETTO:+0100
TZNAME:CET
DTSTART:20271031T010000
END:STANDARD
END:VTIMEZONE
BEGIN:VEVENT
DTSTART;TZID=Europe/Berlin:20260315T110000
DTEND;TZID=Europe/Berlin:20260315T110000
DTSTAMP:20260419T190625
CREATED:20260217T092010Z
LAST-MODIFIED:20260217T092010Z
UID:1510-1773572400-1773572400@hannoverkids.de
SUMMARY:Schneewittchen
DESCRIPTION:Figurentheater Fadenschein für Kinder ab 4 J.\, 11 Uhr\, Figuren Theaterhaus Theatrio\, www.theatrio.de\, (auch 16.3.um 10 Uhr)
URL:https://hannoverkids.de/event/schneewittchen/
END:VEVENT
BEGIN:VEVENT
DTSTART;TZID=Europe/Berlin:20260315T110000
DTEND;TZID=Europe/Berlin:20260315T110000
DTSTAMP:20260419T190625
CREATED:20260217T092025Z
LAST-MODIFIED:20260217T092025Z
UID:1513-1773572400-1773572400@hannoverkids.de
SUMMARY:Führung durch den Landtag
DESCRIPTION:Für Kinder im Grundschulalter und eine Begleitperson\, kostenfrei\, ohne Anm.\, ab 11 Uhr\, NDS Landtag\, Hannah-Arendt-Platz 1
URL:https://hannoverkids.de/event/fuehrung-durch-den-landtag/
END:VEVENT
BEGIN:VEVENT
DTSTART;TZID=Europe/Berlin:20260315T110000
DTEND;TZID=Europe/Berlin:20260315T110000
DTSTAMP:20260419T190625
CREATED:20260217T092337Z
LAST-MODIFIED:20260217T092337Z
UID:1520-1773572400-1773572400@hannoverkids.de
SUMMARY:KREATIV-Markt
DESCRIPTION:Mit Schmuck\, Textilien\, Einrichtungsgegenständen\, Gebrauchskeramik\, Kunstdrucken\, Kosmetik\, Lebensmitteln – selbstgemacht und nachhaltig\, Außerdem offene Kinderangebote\, Musik\, Speisen und Workshops. 11-17 Uhr\, Rathaus Linden
URL:https://hannoverkids.de/event/kreativ-markt/
END:VEVENT
BEGIN:VEVENT
DTSTART;TZID=Europe/Berlin:20260315T111500
DTEND;TZID=Europe/Berlin:20260315T111500
DTSTAMP:20260419T190625
CREATED:20260217T092010Z
LAST-MODIFIED:20260217T092010Z
UID:1512-1773573300-1773573300@hannoverkids.de
SUMMARY:Spiele & Kindheit im Alten Ägypten
DESCRIPTION:Für Familien mit Kindern ab 6 J.\, 11.15-13.15 Uhr\, Museumseintritt nur für Erw.: 5 €\, ermäßigt 4 €\, Anm.: museumspaedagogik.kestner@hannover-stadt.de\, Museum August Kestner
URL:https://hannoverkids.de/event/spiele-kindheit-im-alten-aegypten/
END:VEVENT
BEGIN:VEVENT
DTSTART;TZID=Europe/Berlin:20260315T111500
DTEND;TZID=Europe/Berlin:20260315T111500
DTSTAMP:20260419T190625
CREATED:20260217T092025Z
LAST-MODIFIED:20260217T092025Z
UID:1514-1773573300-1773573300@hannoverkids.de
SUMMARY:Geschichte zum Ausprobieren
DESCRIPTION:2 Std. Workshop mit thematischer Einführung und Kreativaktion für Eltern mit Kindern von 6-10 J.\, Heute: Märchenzeit im Beginenturm\, 4 € pro Pers.\, buchungen.hmh@hannover-stadt.de\, 11.15-13.15 Uhr\, Hannover Kiosk des Historischen Museums
URL:https://hannoverkids.de/event/geschichte-zum-ausprobieren-7/
END:VEVENT
BEGIN:VEVENT
DTSTART;TZID=Europe/Berlin:20260315T111500
DTEND;TZID=Europe/Berlin:20260315T111500
DTSTAMP:20260419T190625
CREATED:20260217T092337Z
LAST-MODIFIED:20260217T092337Z
UID:1518-1773573300-1773573300@hannoverkids.de
SUMMARY:Busch Familie
DESCRIPTION:im Rahmen der Ausstellung Katharina Greve „Regeln sind zum Brechen da!“. Ich darf das so! Interaktive Familienführung ab 4 J.\, in der es um den Mut zur eigenen Meinung geht. Zum Abschluss werden eigene Buttons mit starken Botschaften gestaltet. 8 €\, mit HAP 5 €\, 11.15 Uhr\, Museum Wilhelm Busch\, Anm.: www.karikatur-museum.de
URL:https://hannoverkids.de/event/busch-familie/
END:VEVENT
BEGIN:VEVENT
DTSTART;TZID=Europe/Berlin:20260315T120000
DTEND;TZID=Europe/Berlin:20260315T120000
DTSTAMP:20260419T190625
CREATED:20260217T092025Z
LAST-MODIFIED:20260217T092025Z
UID:1515-1773576000-1773576000@hannoverkids.de
SUMMARY:Götter\, Helden\, große Abenteuer
DESCRIPTION:Griechische Mythen\, die nicht alle kennen für Kinder ab 8 J.\, 12-14 Uhr\, Anm.: Museumspaedagogik.Kestner@hannover-stadt.de\, Museum August Kestner
URL:https://hannoverkids.de/event/goetter-helden-grosse-abenteuer/
END:VEVENT
BEGIN:VEVENT
DTSTART;TZID=Europe/Berlin:20260315T140000
DTEND;TZID=Europe/Berlin:20260315T140000
DTSTAMP:20260419T190625
CREATED:20260217T092025Z
LAST-MODIFIED:20260217T092025Z
UID:1517-1773583200-1773583200@hannoverkids.de
SUMMARY:Labertaschen und Ohrwürmer
DESCRIPTION:Kinder ab 5 J. erfinden blablabla-Melodien und packen sie in ihre selbstgestaltete Labertasche. Ohne Anm.\, 14-16.Uhr\, Kindermuseum Zinnober\, www.kindermuseum-hannover.de
URL:https://hannoverkids.de/event/labertaschen-und-ohrwuermer/
END:VEVENT
BEGIN:VEVENT
DTSTART;TZID=Europe/Berlin:20260315T143000
DTEND;TZID=Europe/Berlin:20260315T143000
DTSTAMP:20260419T190625
CREATED:20260217T092337Z
LAST-MODIFIED:20260217T092337Z
UID:1519-1773585000-1773585000@hannoverkids.de
SUMMARY:Spiel:Zeit
DESCRIPTION:Klein und Groß bauen Boote aus Holz\, 14.30-16.30 Uhr\, kostenfrei\, ohne Anm.\, STZ KroKuS
URL:https://hannoverkids.de/event/spielzeit-7/
END:VEVENT
BEGIN:VEVENT
DTSTART;TZID=Europe/Berlin:20260315T150000
DTEND;TZID=Europe/Berlin:20260315T150000
DTSTAMP:20260419T190625
CREATED:20260217T092025Z
LAST-MODIFIED:20260217T092025Z
UID:1516-1773586800-1773586800@hannoverkids.de
SUMMARY:Krümelzeit
DESCRIPTION:Heute: Wir säen den Frühling aus – Krümelkino und Kreativwerkstatt\, Eintritt frei\, Spenden erbeten\, 15-16.30 Uhr\, Hölderlin Eins\, Anm.: www.hoelderlin-eins.de
URL:https://hannoverkids.de/event/kruemelzeit/
END:VEVENT
BEGIN:VEVENT
DTSTART;TZID=Europe/Berlin:20260315T160000
DTEND;TZID=Europe/Berlin:20260315T160000
DTSTAMP:20260419T190625
CREATED:20260217T092010Z
LAST-MODIFIED:20260217T092010Z
UID:1511-1773590400-1773590400@hannoverkids.de
SUMMARY:Das Mädchen Wajda
DESCRIPTION:Im Rahmen der internationalen Filmreihe ÜBER GRENZEN: Die Geschichte eines saudi-arabischen Mädchens\, das mit Mut und Witz ihren Traum von einem Fahrrad verwirklicht. Empfohlen ab 10 J.\, 16 Uhr\, Kino im Sprengel\, Klaus-Müller-Kilian-Weg 2\, www.kino-im-sprengel.de
URL:https://hannoverkids.de/event/das-maedchen-wajda/
END:VEVENT
END:VCALENDAR