BEGIN:VCALENDAR
VERSION:2.0
PRODID:-//Hannover Kids - ECPv6.15.18//NONSGML v1.0//EN
CALSCALE:GREGORIAN
METHOD:PUBLISH
X-WR-CALNAME:Hannover Kids
X-ORIGINAL-URL:https://hannoverkids.de
X-WR-CALDESC:Veranstaltungen für Hannover Kids
REFRESH-INTERVAL;VALUE=DURATION:PT1H
X-Robots-Tag:noindex
X-PUBLISHED-TTL:PT1H
BEGIN:VTIMEZONE
TZID:Europe/Berlin
BEGIN:DAYLIGHT
TZOFFSETFROM:+0100
TZOFFSETTO:+0200
TZNAME:CEST
DTSTART:20250330T010000
END:DAYLIGHT
BEGIN:STANDARD
TZOFFSETFROM:+0200
TZOFFSETTO:+0100
TZNAME:CET
DTSTART:20251026T010000
END:STANDARD
BEGIN:DAYLIGHT
TZOFFSETFROM:+0100
TZOFFSETTO:+0200
TZNAME:CEST
DTSTART:20260329T010000
END:DAYLIGHT
BEGIN:STANDARD
TZOFFSETFROM:+0200
TZOFFSETTO:+0100
TZNAME:CET
DTSTART:20261025T010000
END:STANDARD
BEGIN:DAYLIGHT
TZOFFSETFROM:+0100
TZOFFSETTO:+0200
TZNAME:CEST
DTSTART:20270328T010000
END:DAYLIGHT
BEGIN:STANDARD
TZOFFSETFROM:+0200
TZOFFSETTO:+0100
TZNAME:CET
DTSTART:20271031T010000
END:STANDARD
END:VTIMEZONE
BEGIN:VEVENT
DTSTART;TZID=Europe/Berlin:20260319T103000
DTEND;TZID=Europe/Berlin:20260319T103000
DTSTAMP:20260419T190536
CREATED:20260217T092352Z
LAST-MODIFIED:20260217T092352Z
UID:1527-1773916200-1773916200@hannoverkids.de
SUMMARY:Wie Pettersson zu Findus kam
DESCRIPTION:Für Kinder von 4-8 J.\, 10.30 Uhr\, STZ Stöcken
URL:https://hannoverkids.de/event/wie-pettersson-zu-findus-kam-7/
END:VEVENT
BEGIN:VEVENT
DTSTART;TZID=Europe/Berlin:20260319T160000
DTEND;TZID=Europe/Berlin:20260319T160000
DTSTAMP:20260419T190536
CREATED:20260217T092434Z
LAST-MODIFIED:20260217T092434Z
UID:1528-1773936000-1773936000@hannoverkids.de
SUMMARY:Hase Häppi – kunterbunt macht glücklich
DESCRIPTION:Bilderbuchkino für Kinder ab 4 J.\, kostenfrei\, ohne Anm.\, 16 Uhr\, Stabi Kleefeld
URL:https://hannoverkids.de/event/hase-haeppi-kunterbunt-macht-gluecklich/
END:VEVENT
BEGIN:VEVENT
DTSTART;TZID=Europe/Berlin:20260319T160000
DTEND;TZID=Europe/Berlin:20260319T160000
DTSTAMP:20260419T190536
CREATED:20260217T092434Z
LAST-MODIFIED:20260217T092434Z
UID:1530-1773936000-1773936000@hannoverkids.de
SUMMARY:Offener Spielenachmittag
DESCRIPTION:ab 6 J.\, ohne Anm.\, kostenfrei\, 16-17 Uhr\, Stabi Hildesheimer. Str.12
URL:https://hannoverkids.de/event/offener-spielenachmittag/
END:VEVENT
END:VCALENDAR