BEGIN:VCALENDAR
VERSION:2.0
PRODID:-//Hannover Kids - ECPv6.15.18//NONSGML v1.0//EN
CALSCALE:GREGORIAN
METHOD:PUBLISH
X-ORIGINAL-URL:https://hannoverkids.de
X-WR-CALDESC:Veranstaltungen für Hannover Kids
REFRESH-INTERVAL;VALUE=DURATION:PT1H
X-Robots-Tag:noindex
X-PUBLISHED-TTL:PT1H
BEGIN:VTIMEZONE
TZID:Europe/Berlin
BEGIN:DAYLIGHT
TZOFFSETFROM:+0100
TZOFFSETTO:+0200
TZNAME:CEST
DTSTART:20250330T010000
END:DAYLIGHT
BEGIN:STANDARD
TZOFFSETFROM:+0200
TZOFFSETTO:+0100
TZNAME:CET
DTSTART:20251026T010000
END:STANDARD
BEGIN:DAYLIGHT
TZOFFSETFROM:+0100
TZOFFSETTO:+0200
TZNAME:CEST
DTSTART:20260329T010000
END:DAYLIGHT
BEGIN:STANDARD
TZOFFSETFROM:+0200
TZOFFSETTO:+0100
TZNAME:CET
DTSTART:20261025T010000
END:STANDARD
BEGIN:DAYLIGHT
TZOFFSETFROM:+0100
TZOFFSETTO:+0200
TZNAME:CEST
DTSTART:20270328T010000
END:DAYLIGHT
BEGIN:STANDARD
TZOFFSETFROM:+0200
TZOFFSETTO:+0100
TZNAME:CET
DTSTART:20271031T010000
END:STANDARD
END:VTIMEZONE
BEGIN:VEVENT
DTSTART;TZID=Europe/Berlin:20260323T090000
DTEND;TZID=Europe/Berlin:20260323T090000
DTSTAMP:20260419T190917
CREATED:20260217T093030Z
LAST-MODIFIED:20260217T093030Z
UID:1548-1774256400-1774256400@hannoverkids.de
SUMMARY:Weltenbauer*innen
DESCRIPTION:Aus Ästen und Träumen gemeinsam gestalten\, Osterferienangebot für Kinder von 6-9 J.\, bis 27.3. jeweils von 9-14 Uhr\, Kosten: 45 €\, mit HAP 22\,50 €\, Anm.: stadtteilzentrum-lister-turm@hannover-stadt\, STZ Lister Turm
URL:https://hannoverkids.de/event/weltenbauerinnen/
END:VEVENT
BEGIN:VEVENT
DTSTART;TZID=Europe/Berlin:20260323T100000
DTEND;TZID=Europe/Berlin:20260323T100000
DTSTAMP:20260419T190917
CREATED:20260217T092849Z
LAST-MODIFIED:20260217T092849Z
UID:1547-1774260000-1774260000@hannoverkids.de
SUMMARY:Kinderklettercamp
DESCRIPTION:10-15 Uhr\, auch 24.3.\, Infos und Anm. www.kletterbar-hannover.de
URL:https://hannoverkids.de/event/kinderklettercamp/
END:VEVENT
BEGIN:VEVENT
DTSTART;TZID=Europe/Berlin:20260323T160000
DTEND;TZID=Europe/Berlin:20260323T160000
DTSTAMP:20260419T190917
CREATED:20260217T093030Z
LAST-MODIFIED:20260217T093030Z
UID:1549-1774281600-1774281600@hannoverkids.de
SUMMARY:Fußball-Turnier mit Sphero Bolts
DESCRIPTION:Menschen von 10-99 J. spielen mit schnellen Sphero-Robotern ein kleines Fußballturnier. 16-17 Uhr\, ohne Anm.\, kostenfrei\, Stabi Hildesheimer Str. 12
URL:https://hannoverkids.de/event/fussball-turnier-mit-sphero-bolts/
END:VEVENT
END:VCALENDAR