BEGIN:VCALENDAR
VERSION:2.0
PRODID:-//Hannover Kids - ECPv6.15.18//NONSGML v1.0//EN
CALSCALE:GREGORIAN
METHOD:PUBLISH
X-WR-CALNAME:Hannover Kids
X-ORIGINAL-URL:https://hannoverkids.de
X-WR-CALDESC:Veranstaltungen für Hannover Kids
REFRESH-INTERVAL;VALUE=DURATION:PT1H
X-Robots-Tag:noindex
X-PUBLISHED-TTL:PT1H
BEGIN:VTIMEZONE
TZID:Europe/Berlin
BEGIN:DAYLIGHT
TZOFFSETFROM:+0100
TZOFFSETTO:+0200
TZNAME:CEST
DTSTART:20250330T010000
END:DAYLIGHT
BEGIN:STANDARD
TZOFFSETFROM:+0200
TZOFFSETTO:+0100
TZNAME:CET
DTSTART:20251026T010000
END:STANDARD
BEGIN:DAYLIGHT
TZOFFSETFROM:+0100
TZOFFSETTO:+0200
TZNAME:CEST
DTSTART:20260329T010000
END:DAYLIGHT
BEGIN:STANDARD
TZOFFSETFROM:+0200
TZOFFSETTO:+0100
TZNAME:CET
DTSTART:20261025T010000
END:STANDARD
BEGIN:DAYLIGHT
TZOFFSETFROM:+0100
TZOFFSETTO:+0200
TZNAME:CEST
DTSTART:20270328T010000
END:DAYLIGHT
BEGIN:STANDARD
TZOFFSETFROM:+0200
TZOFFSETTO:+0100
TZNAME:CET
DTSTART:20271031T010000
END:STANDARD
END:VTIMEZONE
BEGIN:VEVENT
DTSTART;TZID=Europe/Berlin:20260327T100000
DTEND;TZID=Europe/Berlin:20260327T100000
DTSTAMP:20260419T190527
CREATED:20260217T093130Z
LAST-MODIFIED:20260217T093130Z
UID:1568-1774605600-1774605600@hannoverkids.de
SUMMARY:Steinzeitüberlebenstraining
DESCRIPTION:Ferienprogramm für Kinder ab 8 J.\, 10-13 Uhr\, Museumseintritt plus 2\,50 €\, Anm.: www.landesmuseum-hannover.de
URL:https://hannoverkids.de/event/steinzeitueberlebenstraining/
END:VEVENT
BEGIN:VEVENT
DTSTART;TZID=Europe/Berlin:20260327T150000
DTEND;TZID=Europe/Berlin:20260327T150000
DTSTAMP:20260419T190527
CREATED:20260217T093115Z
LAST-MODIFIED:20260217T093115Z
UID:1567-1774623600-1774623600@hannoverkids.de
SUMMARY:Bauspaß mit LEGO
DESCRIPTION:Lego-bauen – einfach vorbei kommen und werde und kreativ werden! 15-17 Uhr\, Stabi Kleefeld\, (auch 28. von 10-14 Uhr)
URL:https://hannoverkids.de/event/bauspass-mit-lego/
END:VEVENT
BEGIN:VEVENT
DTSTART;TZID=Europe/Berlin:20260327T170000
DTEND;TZID=Europe/Berlin:20260327T170000
DTSTAMP:20260419T190527
CREATED:20260217T093130Z
LAST-MODIFIED:20260217T093130Z
UID:1569-1774630800-1774630800@hannoverkids.de
SUMMARY:Koreanischer Schwertkampf
DESCRIPTION:(Haidong Gumdo)\, 17 Uhr für Kinder von 6-12 J.\, Sportakademie Dr. Lee\, kostenlose Probestunde und Voranmeldung: www.sport-lee.de oder 0511/ 44 13 43\, (jed. Fr.)
URL:https://hannoverkids.de/event/koreanischer-schwertkampf/
END:VEVENT
END:VCALENDAR