BEGIN:VCALENDAR
VERSION:2.0
PRODID:-//Hannover Kids - ECPv6.15.18//NONSGML v1.0//EN
CALSCALE:GREGORIAN
METHOD:PUBLISH
X-ORIGINAL-URL:https://hannoverkids.de
X-WR-CALDESC:Veranstaltungen für Hannover Kids
REFRESH-INTERVAL;VALUE=DURATION:PT1H
X-Robots-Tag:noindex
X-PUBLISHED-TTL:PT1H
BEGIN:VTIMEZONE
TZID:Europe/Berlin
BEGIN:DAYLIGHT
TZOFFSETFROM:+0100
TZOFFSETTO:+0200
TZNAME:CEST
DTSTART:20250330T010000
END:DAYLIGHT
BEGIN:STANDARD
TZOFFSETFROM:+0200
TZOFFSETTO:+0100
TZNAME:CET
DTSTART:20251026T010000
END:STANDARD
BEGIN:DAYLIGHT
TZOFFSETFROM:+0100
TZOFFSETTO:+0200
TZNAME:CEST
DTSTART:20260329T010000
END:DAYLIGHT
BEGIN:STANDARD
TZOFFSETFROM:+0200
TZOFFSETTO:+0100
TZNAME:CET
DTSTART:20261025T010000
END:STANDARD
BEGIN:DAYLIGHT
TZOFFSETFROM:+0100
TZOFFSETTO:+0200
TZNAME:CEST
DTSTART:20270328T010000
END:DAYLIGHT
BEGIN:STANDARD
TZOFFSETFROM:+0200
TZOFFSETTO:+0100
TZNAME:CET
DTSTART:20271031T010000
END:STANDARD
END:VTIMEZONE
BEGIN:VEVENT
DTSTART;TZID=Europe/Berlin:20260328T100000
DTEND;TZID=Europe/Berlin:20260328T100000
DTSTAMP:20260419T185702
CREATED:20260217T093145Z
LAST-MODIFIED:20260217T093145Z
UID:1574-1774692000-1774692000@hannoverkids.de
SUMMARY:Osterkränze binden
DESCRIPTION:Aktion für Erw. und Kinder ab 6 J.\, 10-12 Uhr\, Kosten 20 € Material\, anmeldung@naturpark-steinhuder-meer.de\, Naturpark-Scheune Steinhude
URL:https://hannoverkids.de/event/osterkraenze-binden/
END:VEVENT
BEGIN:VEVENT
DTSTART;TZID=Europe/Berlin:20260328T110000
DTEND;TZID=Europe/Berlin:20260328T110000
DTSTAMP:20260419T185702
CREATED:20260217T093145Z
LAST-MODIFIED:20260217T093145Z
UID:1577-1774695600-1774695600@hannoverkids.de
SUMMARY:Terrazzo-Workshop
DESCRIPTION:Ovale Schmuckschale herstellen\, 11-14 Uhr\, Studio.Elise\, Infos und Anm.: www.studio.elise.de
URL:https://hannoverkids.de/event/terrazzo-workshop-2/
END:VEVENT
BEGIN:VEVENT
DTSTART;TZID=Europe/Berlin:20260328T140000
DTEND;TZID=Europe/Berlin:20260328T140000
DTSTAMP:20260419T185702
CREATED:20260217T093130Z
LAST-MODIFIED:20260217T093130Z
UID:1571-1774706400-1774706400@hannoverkids.de
SUMMARY:Apollo Kino
DESCRIPTION:14 Uhr „Heidi – Die Legende vom Fuchs“\, 16 Uhr „Pumuckl und das große Missverständnis“ (auch 27.3.)\, www.apollo-kino.de
URL:https://hannoverkids.de/event/apollo-kino-9/
END:VEVENT
BEGIN:VEVENT
DTSTART;TZID=Europe/Berlin:20260328T140000
DTEND;TZID=Europe/Berlin:20260328T140000
DTSTAMP:20260419T185702
CREATED:20260217T093130Z
LAST-MODIFIED:20260217T093130Z
UID:1572-1774706400-1774706400@hannoverkids.de
SUMMARY:Familienrallye
DESCRIPTION:Abenteuer Körper: Familien-Entdeckungstour durch die Sonderausstellung „Essen und Trinken. Eine Erlebnisreise durch Körper und Zeit\, 14-15 Uhr\, Anm.: buchung.blm@3landesmuseen.de\, Landesmuseum Hinter Aegidien\, Braunschweig\, www.3landesmuseen.de\, (jed. Sa.)
URL:https://hannoverkids.de/event/familienrallye-3/
END:VEVENT
BEGIN:VEVENT
DTSTART;TZID=Europe/Berlin:20260328T140000
DTEND;TZID=Europe/Berlin:20260328T140000
DTSTAMP:20260419T185702
CREATED:20260217T093145Z
LAST-MODIFIED:20260217T093145Z
UID:1573-1774706400-1774706400@hannoverkids.de
SUMMARY:Die kleinen Klavierbauer
DESCRIPTION:„Wo ist der Ton versteckt?“\, „Wo kommt die Musik her?“ Antworten auf diese Fragen erhalten Kinder in Begleitung ihrer Eltern in diesem lebhaften Workshop! Eintritt frei! Nur mit Anm.! Tel. 84300150\, hannover@bechstein.de\, 14 Uhr\, C. Bechstein Centrum Hannover\, Königstr. 50
URL:https://hannoverkids.de/event/die-kleinen-klavierbauer/
END:VEVENT
BEGIN:VEVENT
DTSTART;TZID=Europe/Berlin:20260328T140000
DTEND;TZID=Europe/Berlin:20260328T140000
DTSTAMP:20260419T185702
CREATED:20260217T093145Z
LAST-MODIFIED:20260217T093145Z
UID:1575-1774706400-1774706400@hannoverkids.de
SUMMARY:Abenteuerreise
DESCRIPTION:durch den Kinderwald: Kinder von 6-12 J. lösen Rätsel\, treffen wundersame Wesen und stellen ihren Mut und Teamgeist unter Beweis. 14-17 Uhr\, kostenlos\, Anm.: daniel.baum@waldritter.de \, www.kinderwald.de
URL:https://hannoverkids.de/event/abenteuerreise/
END:VEVENT
BEGIN:VEVENT
DTSTART;TZID=Europe/Berlin:20260328T140000
DTEND;TZID=Europe/Berlin:20260328T140000
DTSTAMP:20260419T185702
CREATED:20260217T093145Z
LAST-MODIFIED:20260217T093145Z
UID:1576-1774706400-1774706400@hannoverkids.de
SUMMARY:Kreativität und Klavierspiel
DESCRIPTION:Workshop für alle ab 7 J. mit Vorerfahrungen auf dem Klavier. Die Teilnehmer*innen tanzen\, hören\, malen\, schreiben und verbinden das alles mit Klavier spielen. 14-19 Uhr\, 29.3. 12-18 Uhr\, 30.3. 12-17 Uhr\, Kosten: 21 €\, mit HAP 12\,50 €\, Anm.: fzh-linden@hannover-stadt.de\, FZH Linden
URL:https://hannoverkids.de/event/kreativitaet-und-klavierspiel/
END:VEVENT
BEGIN:VEVENT
DTSTART;TZID=Europe/Berlin:20260328T160000
DTEND;TZID=Europe/Berlin:20260328T160000
DTSTAMP:20260419T185702
CREATED:20260217T093130Z
LAST-MODIFIED:20260217T093130Z
UID:1570-1774713600-1774713600@hannoverkids.de
SUMMARY:Der Grüffelo
DESCRIPTION:für Kinder ab 4 J.\, 16 Uhr\, Theatermuseum Hannover\, Prinzenstr. 9\, Vorverkauf-Tel.: 99991111
URL:https://hannoverkids.de/event/der-grueffelo-2/
END:VEVENT
END:VCALENDAR