BEGIN:VCALENDAR
VERSION:2.0
PRODID:-//Hannover Kids - ECPv6.15.20//NONSGML v1.0//EN
CALSCALE:GREGORIAN
METHOD:PUBLISH
X-ORIGINAL-URL:https://hannoverkids.de
X-WR-CALDESC:Veranstaltungen für Hannover Kids
REFRESH-INTERVAL;VALUE=DURATION:PT1H
X-Robots-Tag:noindex
X-PUBLISHED-TTL:PT1H
BEGIN:VTIMEZONE
TZID:Europe/Berlin
BEGIN:DAYLIGHT
TZOFFSETFROM:+0100
TZOFFSETTO:+0200
TZNAME:CEST
DTSTART:20250330T010000
END:DAYLIGHT
BEGIN:STANDARD
TZOFFSETFROM:+0200
TZOFFSETTO:+0100
TZNAME:CET
DTSTART:20251026T010000
END:STANDARD
BEGIN:DAYLIGHT
TZOFFSETFROM:+0100
TZOFFSETTO:+0200
TZNAME:CEST
DTSTART:20260329T010000
END:DAYLIGHT
BEGIN:STANDARD
TZOFFSETFROM:+0200
TZOFFSETTO:+0100
TZNAME:CET
DTSTART:20261025T010000
END:STANDARD
BEGIN:DAYLIGHT
TZOFFSETFROM:+0100
TZOFFSETTO:+0200
TZNAME:CEST
DTSTART:20270328T010000
END:DAYLIGHT
BEGIN:STANDARD
TZOFFSETFROM:+0200
TZOFFSETTO:+0100
TZNAME:CET
DTSTART:20271031T010000
END:STANDARD
END:VTIMEZONE
BEGIN:VEVENT
DTSTART;VALUE=DATE:20260412
DTEND;VALUE=DATE:20260413
DTSTAMP:20260425T142005
CREATED:20260319T102024Z
LAST-MODIFIED:20260320T080855Z
UID:1876-1775952000-1776038399@hannoverkids.de
SUMMARY:Marathon
DESCRIPTION:Alle Infos zu den Strecken\, dem Hauptlauf\, Uhrzeiten und Programm: www.marathon-hannover.de.
URL:https://hannoverkids.de/event/marathon/
END:VEVENT
BEGIN:VEVENT
DTSTART;TZID=Europe/Berlin:20260412T100000
DTEND;TZID=Europe/Berlin:20260412T100000
DTSTAMP:20260425T142005
CREATED:20260319T102024Z
LAST-MODIFIED:20260320T080855Z
UID:1877-1775988000-1775988000@hannoverkids.de
SUMMARY:Open Sunday
DESCRIPTION:offenes Sportangebot für Kinder von 6-12 J.\, kostenlos\, ohne Anm.\, 10-15 Uhr\, GS Fridtjof-Nansen-Schule\, Leipziger Str. 38
URL:https://hannoverkids.de/event/open-sunday/
END:VEVENT
BEGIN:VEVENT
DTSTART;TZID=Europe/Berlin:20260412T100000
DTEND;TZID=Europe/Berlin:20260412T100000
DTSTAMP:20260425T142005
CREATED:20260319T102039Z
LAST-MODIFIED:20260320T080855Z
UID:1880-1775988000-1775988000@hannoverkids.de
SUMMARY:Die Waldlinge sind los!
DESCRIPTION:Waldluft schnuppern\, singen und spielen u.v.m. für Kinder von 3-6 J. mit Eltern\,  10-14 Uhr\, Treffpunkt: Container am Eingang des Kinderwaldes\, Kosten: 4 € pro Kind\, Anm.: draussengutallesgut@posteo.de\, www.kinderwald.de
URL:https://hannoverkids.de/event/die-waldlinge-sind-los/
END:VEVENT
BEGIN:VEVENT
DTSTART;TZID=Europe/Berlin:20260412T110000
DTEND;TZID=Europe/Berlin:20260412T110000
DTSTAMP:20260425T142005
CREATED:20260319T102009Z
LAST-MODIFIED:20260320T080855Z
UID:1872-1775991600-1775991600@hannoverkids.de
SUMMARY:Peter und der Wolf
DESCRIPTION:für Kinder von 4-6 J.\, 11 & 16 Uhr\, Theatermuseum Hannover\, Prinzenstr. 9\, Vorverkauf-Tel.: 99991111
URL:https://hannoverkids.de/event/peter-und-der-wolf/
END:VEVENT
BEGIN:VEVENT
DTSTART;TZID=Europe/Berlin:20260412T110000
DTEND;TZID=Europe/Berlin:20260412T110000
DTSTAMP:20260425T142005
CREATED:20260319T102009Z
LAST-MODIFIED:20260320T080855Z
UID:1873-1775991600-1775991600@hannoverkids.de
SUMMARY:Das Geheimnis des roten Katers
DESCRIPTION:Das Figurentheater Marmelock spielt für Kinder ab 4 J.\, 11 Uhr\, Figurentheaterhaus\, www.theatrio.de\, (auch 13. & 14.4. um 10 Uhr)
URL:https://hannoverkids.de/event/das-geheimnis-des-roten-katers/
END:VEVENT
BEGIN:VEVENT
DTSTART;TZID=Europe/Berlin:20260412T110000
DTEND;TZID=Europe/Berlin:20260412T110000
DTSTAMP:20260425T142005
CREATED:20260319T102039Z
LAST-MODIFIED:20260320T080855Z
UID:1881-1775991600-1775991600@hannoverkids.de
SUMMARY:Terrazzo-Workshop
DESCRIPTION:Ovale Schmuckschale herstellen\, 11-14 Uhr\, Studio.Elise\, Infos und Anm.: www.studio.elise.de
URL:https://hannoverkids.de/event/terrazzo-workshop-3/
END:VEVENT
BEGIN:VEVENT
DTSTART;TZID=Europe/Berlin:20260412T140000
DTEND;TZID=Europe/Berlin:20260412T140000
DTSTAMP:20260425T142005
CREATED:20260319T102024Z
LAST-MODIFIED:20260320T080855Z
UID:1875-1776002400-1776002400@hannoverkids.de
SUMMARY:Kindersachenbasar
DESCRIPTION:14-16 Uhr im Solecitos e.V.; Lister Kirchweg 69
URL:https://hannoverkids.de/event/kindersachenbasar/
END:VEVENT
BEGIN:VEVENT
DTSTART;TZID=Europe/Berlin:20260412T140000
DTEND;TZID=Europe/Berlin:20260412T140000
DTSTAMP:20260425T142005
CREATED:20260319T102024Z
LAST-MODIFIED:20260320T080855Z
UID:1874-1776002400-1776002400@hannoverkids.de
SUMMARY:Apollo Kino
DESCRIPTION:„Lilly und die Kängurus“ um 14 Uhr und „Das Dschungelbuch“ um 16 Uhr (auch 11.4.)
URL:https://hannoverkids.de/event/apollo-kino-11/
END:VEVENT
BEGIN:VEVENT
DTSTART;TZID=Europe/Berlin:20260412T143000
DTEND;TZID=Europe/Berlin:20260412T143000
DTSTAMP:20260425T142005
CREATED:20260319T102024Z
LAST-MODIFIED:20260320T080855Z
UID:1878-1776004200-1776004200@hannoverkids.de
SUMMARY:Spiel-Zeit
DESCRIPTION:Spielkultur am Wochenende für Familien mit Kindern ab 6 J.\, heute: Musical Playground mit Omid Bahadori\, 14.30-16.30 Uhr\, ohne Anm.\, kostenfrei\, FZH Linden
URL:https://hannoverkids.de/event/spiel-zeit/
END:VEVENT
BEGIN:VEVENT
DTSTART;TZID=Europe/Berlin:20260412T143000
DTEND;TZID=Europe/Berlin:20260412T143000
DTSTAMP:20260425T142005
CREATED:20260319T102039Z
LAST-MODIFIED:20260320T080855Z
UID:1879-1776004200-1776004200@hannoverkids.de
SUMMARY:Spiel:Zeit
DESCRIPTION:Heute: Boote aus Holz bauen und andere kleine Kunstwerke\,14.30-16.30 Uhr\, kostenfrei\, ohne Anm.\, Kulturtreff Roderbruch
URL:https://hannoverkids.de/event/spielzeit-8/
END:VEVENT
END:VCALENDAR