BEGIN:VCALENDAR
VERSION:2.0
PRODID:-//Hannover Kids - ECPv6.15.20//NONSGML v1.0//EN
CALSCALE:GREGORIAN
METHOD:PUBLISH
X-ORIGINAL-URL:https://hannoverkids.de
X-WR-CALDESC:Veranstaltungen für Hannover Kids
REFRESH-INTERVAL;VALUE=DURATION:PT1H
X-Robots-Tag:noindex
X-PUBLISHED-TTL:PT1H
BEGIN:VTIMEZONE
TZID:Europe/Berlin
BEGIN:DAYLIGHT
TZOFFSETFROM:+0100
TZOFFSETTO:+0200
TZNAME:CEST
DTSTART:20250330T010000
END:DAYLIGHT
BEGIN:STANDARD
TZOFFSETFROM:+0200
TZOFFSETTO:+0100
TZNAME:CET
DTSTART:20251026T010000
END:STANDARD
BEGIN:DAYLIGHT
TZOFFSETFROM:+0100
TZOFFSETTO:+0200
TZNAME:CEST
DTSTART:20260329T010000
END:DAYLIGHT
BEGIN:STANDARD
TZOFFSETFROM:+0200
TZOFFSETTO:+0100
TZNAME:CET
DTSTART:20261025T010000
END:STANDARD
BEGIN:DAYLIGHT
TZOFFSETFROM:+0100
TZOFFSETTO:+0200
TZNAME:CEST
DTSTART:20270328T010000
END:DAYLIGHT
BEGIN:STANDARD
TZOFFSETFROM:+0200
TZOFFSETTO:+0100
TZNAME:CET
DTSTART:20271031T010000
END:STANDARD
END:VTIMEZONE
BEGIN:VEVENT
DTSTART;TZID=Europe/Berlin:20260414T100000
DTEND;TZID=Europe/Berlin:20260414T100000
DTSTAMP:20260425T142317
CREATED:20260319T102124Z
LAST-MODIFIED:20260320T080906Z
UID:1895-1776160800-1776160800@hannoverkids.de
SUMMARY:Outdoor Finess
DESCRIPTION:mit Kind und Kinderwagen\, 10 Uhr\, Treffpunkt: Wietzepark Isernhagen\, alle Präventionskurse buchbar über Krankenkasse oder per Hansefit\, weitere Termine und Kursorte bei Inna (0159/02412174)\, innasiebert@gmx.de) und www.laufmamalauf.de\, (jed. Di.)
URL:https://hannoverkids.de/event/outdoor-finess-2/
END:VEVENT
BEGIN:VEVENT
DTSTART;TZID=Europe/Berlin:20260414T154500
DTEND;TZID=Europe/Berlin:20260414T154500
DTSTAMP:20260425T142317
CREATED:20260319T102109Z
LAST-MODIFIED:20260320T080906Z
UID:1893-1776181500-1776181500@hannoverkids.de
SUMMARY:Die Ringelreihe
DESCRIPTION:Kinderdisco\, für alle von 3-6 J.\, Ticket (für 1 Erw. und 1 Kind) 5 € an der Infothek im Pavillon\, Einlass: 15.45 Uhr\, www.pavillon-hannover.de
URL:https://hannoverkids.de/event/die-ringelreihe-2/
END:VEVENT
BEGIN:VEVENT
DTSTART;TZID=Europe/Berlin:20260414T170000
DTEND;TZID=Europe/Berlin:20260414T170000
DTSTAMP:20260425T142317
CREATED:20260319T102109Z
LAST-MODIFIED:20260320T080906Z
UID:1892-1776186000-1776186000@hannoverkids.de
SUMMARY:Experimentier-Club
DESCRIPTION:für Kinder von 5-6 J.\, bis 5.5.\, (5 Treffen)\, 17-18 Uhr\, DRK-Familienbildungsstätte\, Erwinstraße 8\, www.fabi.de
URL:https://hannoverkids.de/event/experimentier-club/
END:VEVENT
BEGIN:VEVENT
DTSTART;TZID=Europe/Berlin:20260414T193000
DTEND;TZID=Europe/Berlin:20260414T193000
DTSTAMP:20260425T142317
CREATED:20260319T102124Z
LAST-MODIFIED:20260320T080906Z
UID:1894-1776195000-1776195000@hannoverkids.de
SUMMARY:Mama Fit
DESCRIPTION:mit Hebamme Maya Anneser in der Hebammerei Hannover in Linden. Fit bleiben nach der Rückbildung mit Fokus auf Beckenboden\, Körperhaltung und Rücken. Workout bei guter Musik. 8 Termine 19.30-20.30 Uhr\, Anm.: www.hebammerei-hannover.de
URL:https://hannoverkids.de/event/mama-fit/
END:VEVENT
END:VCALENDAR