BEGIN:VCALENDAR
VERSION:2.0
PRODID:-//Hannover Kids - ECPv6.15.20//NONSGML v1.0//EN
CALSCALE:GREGORIAN
METHOD:PUBLISH
X-WR-CALNAME:Hannover Kids
X-ORIGINAL-URL:https://hannoverkids.de
X-WR-CALDESC:Veranstaltungen für Hannover Kids
REFRESH-INTERVAL;VALUE=DURATION:PT1H
X-Robots-Tag:noindex
X-PUBLISHED-TTL:PT1H
BEGIN:VTIMEZONE
TZID:Europe/Berlin
BEGIN:DAYLIGHT
TZOFFSETFROM:+0100
TZOFFSETTO:+0200
TZNAME:CEST
DTSTART:20250330T010000
END:DAYLIGHT
BEGIN:STANDARD
TZOFFSETFROM:+0200
TZOFFSETTO:+0100
TZNAME:CET
DTSTART:20251026T010000
END:STANDARD
BEGIN:DAYLIGHT
TZOFFSETFROM:+0100
TZOFFSETTO:+0200
TZNAME:CEST
DTSTART:20260329T010000
END:DAYLIGHT
BEGIN:STANDARD
TZOFFSETFROM:+0200
TZOFFSETTO:+0100
TZNAME:CET
DTSTART:20261025T010000
END:STANDARD
BEGIN:DAYLIGHT
TZOFFSETFROM:+0100
TZOFFSETTO:+0200
TZNAME:CEST
DTSTART:20270328T010000
END:DAYLIGHT
BEGIN:STANDARD
TZOFFSETFROM:+0200
TZOFFSETTO:+0100
TZNAME:CET
DTSTART:20271031T010000
END:STANDARD
END:VTIMEZONE
BEGIN:VEVENT
DTSTART;TZID=Europe/Berlin:20260503T100000
DTEND;TZID=Europe/Berlin:20260503T100000
DTSTAMP:20260425T140028
CREATED:20260421T085941Z
LAST-MODIFIED:20260421T085941Z
UID:2424-1777802400-1777802400@hannoverkids.de
SUMMARY:Tauschmarkt
DESCRIPTION:Deko\, Haushalt\, Sportzubehör\, Spielzeug – keine Kleidung! 10-14 Uhr\, Einkaufspark Klein Buchholz\, Adolf-Emmelman-Str.
URL:https://hannoverkids.de/event/tauschmarkt/
END:VEVENT
BEGIN:VEVENT
DTSTART;TZID=Europe/Berlin:20260503T103000
DTEND;TZID=Europe/Berlin:20260503T103000
DTSTAMP:20260425T140028
CREATED:20260421T085941Z
LAST-MODIFIED:20260421T085941Z
UID:2423-1777804200-1777804200@hannoverkids.de
SUMMARY:Schulbiologiezentrum
DESCRIPTION:zum Mitmachen und Natur erleben für Erwachsene und Kinder\, kostenfrei\, 10.30-12 Uhr\, Vinnhorster Weg 2\, www.schulbiologiezentrum.info
URL:https://hannoverkids.de/event/schulbiologiezentrum-2/
END:VEVENT
BEGIN:VEVENT
DTSTART;TZID=Europe/Berlin:20260503T110000
DTEND;TZID=Europe/Berlin:20260503T110000
DTSTAMP:20260425T140028
CREATED:20260421T085926Z
LAST-MODIFIED:20260421T085926Z
UID:2415-1777806000-1777806000@hannoverkids.de
SUMMARY:Peter und der Wolf
DESCRIPTION:für Kinder ab 4 J.\, 11 Uhr\, Theatermuseum Hannover\, Prinzenstr. 9\, Vorverkauf-Tel.: 99991111
URL:https://hannoverkids.de/event/peter-und-der-wolf-3/
END:VEVENT
BEGIN:VEVENT
DTSTART;TZID=Europe/Berlin:20260503T110000
DTEND;TZID=Europe/Berlin:20260503T110000
DTSTAMP:20260425T140028
CREATED:20260421T085926Z
LAST-MODIFIED:20260421T085926Z
UID:2416-1777806000-1777806000@hannoverkids.de
SUMMARY:Der Dachs hat heute schlechte Laune
DESCRIPTION:Figurentheater Tearticolo spielt eine fröhliche Tiergeschichte für kleine Miesepeter und Muffelköpfe\, 11 Uhr\, Figurentheater Theatrio\, Tickets: www.theatrio.de\, (auch 4.5.\, 10 Uhr)
URL:https://hannoverkids.de/event/der-dachs-hat-heute-schlechte-laune/
END:VEVENT
BEGIN:VEVENT
DTSTART;TZID=Europe/Berlin:20260503T171000
DTEND;TZID=Europe/Berlin:20260503T171000
DTSTAMP:20260425T140028
CREATED:20260421T085926Z
LAST-MODIFIED:20260421T085926Z
UID:2417-1777828200-1777828200@hannoverkids.de
SUMMARY:Harlem Globetrotters
DESCRIPTION:Basketball-Ikonen live – 100 Jahre Harlem Globetrotters\, 100 % Familien-Action! 17.10 Uhr\, ZAG Arena\, www.hannover-concerts.de
URL:https://hannoverkids.de/event/harlem-globetrotters/
END:VEVENT
END:VCALENDAR