BEGIN:VCALENDAR
VERSION:2.0
PRODID:-//Hannover Kids - ECPv6.15.20//NONSGML v1.0//EN
CALSCALE:GREGORIAN
METHOD:PUBLISH
X-WR-CALNAME:Hannover Kids
X-ORIGINAL-URL:https://hannoverkids.de
X-WR-CALDESC:Veranstaltungen für Hannover Kids
REFRESH-INTERVAL;VALUE=DURATION:PT1H
X-Robots-Tag:noindex
X-PUBLISHED-TTL:PT1H
BEGIN:VTIMEZONE
TZID:Europe/Berlin
BEGIN:DAYLIGHT
TZOFFSETFROM:+0100
TZOFFSETTO:+0200
TZNAME:CEST
DTSTART:20250330T010000
END:DAYLIGHT
BEGIN:STANDARD
TZOFFSETFROM:+0200
TZOFFSETTO:+0100
TZNAME:CET
DTSTART:20251026T010000
END:STANDARD
BEGIN:DAYLIGHT
TZOFFSETFROM:+0100
TZOFFSETTO:+0200
TZNAME:CEST
DTSTART:20260329T010000
END:DAYLIGHT
BEGIN:STANDARD
TZOFFSETFROM:+0200
TZOFFSETTO:+0100
TZNAME:CET
DTSTART:20261025T010000
END:STANDARD
BEGIN:DAYLIGHT
TZOFFSETFROM:+0100
TZOFFSETTO:+0200
TZNAME:CEST
DTSTART:20270328T010000
END:DAYLIGHT
BEGIN:STANDARD
TZOFFSETFROM:+0200
TZOFFSETTO:+0100
TZNAME:CET
DTSTART:20271031T010000
END:STANDARD
END:VTIMEZONE
BEGIN:VEVENT
DTSTART;TZID=Europe/Berlin:20260504T100000
DTEND;TZID=Europe/Berlin:20260504T100000
DTSTAMP:20260425T153932
CREATED:20260421T085941Z
LAST-MODIFIED:20260421T085941Z
UID:2426-1777888800-1777888800@hannoverkids.de
SUMMARY:Eltern-Kind-Treff
DESCRIPTION:Informationsaustausch und Spiel-Treff für Eltern mit Kindern von 0-3 J.\, 10-12 Uhr\, kostenfrei\, einfach vorbeikommen\, Bürgerhaus Misburg\, Seckbruch Str. 20\, (jed. Mo.)
URL:https://hannoverkids.de/event/eltern-kind-treff-4/
END:VEVENT
BEGIN:VEVENT
DTSTART;TZID=Europe/Berlin:20260504T160000
DTEND;TZID=Europe/Berlin:20260504T160000
DTSTAMP:20260425T153932
CREATED:20260421T085941Z
LAST-MODIFIED:20260421T085941Z
UID:2425-1777910400-1777910400@hannoverkids.de
SUMMARY:Kamishibai
DESCRIPTION:Erzähltheater mit großen Bildkarten für Kinder ab 3 J.\, kostenfrei\, ohne Anm.\, 16 Uhr\, Stabi Hildesheimer Str.12.\, (jed. Mo.)
URL:https://hannoverkids.de/event/kamishibai/
END:VEVENT
END:VCALENDAR