BEGIN:VCALENDAR
VERSION:2.0
PRODID:-//Hannover Kids - ECPv6.15.20//NONSGML v1.0//EN
CALSCALE:GREGORIAN
METHOD:PUBLISH
X-ORIGINAL-URL:https://hannoverkids.de
X-WR-CALDESC:Veranstaltungen für Hannover Kids
REFRESH-INTERVAL;VALUE=DURATION:PT1H
X-Robots-Tag:noindex
X-PUBLISHED-TTL:PT1H
BEGIN:VTIMEZONE
TZID:Europe/Berlin
BEGIN:DAYLIGHT
TZOFFSETFROM:+0100
TZOFFSETTO:+0200
TZNAME:CEST
DTSTART:20250330T010000
END:DAYLIGHT
BEGIN:STANDARD
TZOFFSETFROM:+0200
TZOFFSETTO:+0100
TZNAME:CET
DTSTART:20251026T010000
END:STANDARD
BEGIN:DAYLIGHT
TZOFFSETFROM:+0100
TZOFFSETTO:+0200
TZNAME:CEST
DTSTART:20260329T010000
END:DAYLIGHT
BEGIN:STANDARD
TZOFFSETFROM:+0200
TZOFFSETTO:+0100
TZNAME:CET
DTSTART:20261025T010000
END:STANDARD
BEGIN:DAYLIGHT
TZOFFSETFROM:+0100
TZOFFSETTO:+0200
TZNAME:CEST
DTSTART:20270328T010000
END:DAYLIGHT
BEGIN:STANDARD
TZOFFSETFROM:+0200
TZOFFSETTO:+0100
TZNAME:CET
DTSTART:20271031T010000
END:STANDARD
END:VTIMEZONE
BEGIN:VEVENT
DTSTART;TZID=Europe/Berlin:20260505T160000
DTEND;TZID=Europe/Berlin:20260505T160000
DTSTAMP:20260425T153520
CREATED:20260421T085956Z
LAST-MODIFIED:20260421T085956Z
UID:2428-1777996800-1777996800@hannoverkids.de
SUMMARY:Kung Fu
DESCRIPTION:16 Uhr für Kinder von 3\,5-6 J.\, 17 Uhr für Kinder von 7-9 J.\, 18 Uhr für Kinder von 10-14 J.\, Sportakademie Dr. Lee\, kostenlose Probestunde und Voranmeldung: www.sport-lee.de oder 0511/ 44 13 43 (jed. Mo. + Mi.\, und Di. + Do.)
URL:https://hannoverkids.de/event/kung-fu-4/
END:VEVENT
BEGIN:VEVENT
DTSTART;TZID=Europe/Berlin:20260505T163000
DTEND;TZID=Europe/Berlin:20260505T163000
DTSTAMP:20260425T153520
CREATED:20260421T085941Z
LAST-MODIFIED:20260421T085941Z
UID:2427-1777998600-1777998600@hannoverkids.de
SUMMARY:Ein Brief. Eine Begegnung.
DESCRIPTION:Und eine Geschichte\, die alles verändert. Bilderbuchkino für Kinder ab 4 J.\, kostenfrei\, ohne Anm.\, 16.30 Uhr\, Stabi im STZ KroKuS
URL:https://hannoverkids.de/event/ein-brief-eine-begegnung/
END:VEVENT
BEGIN:VEVENT
DTSTART;TZID=Europe/Berlin:20260505T173000
DTEND;TZID=Europe/Berlin:20260505T173000
DTSTAMP:20260425T153520
CREATED:20260421T085956Z
LAST-MODIFIED:20260421T085956Z
UID:2429-1778002200-1778002200@hannoverkids.de
SUMMARY:Outdoor Finess
DESCRIPTION:mit Kind und Kinderwagen\, 17.30 Uhr\, Südstadt Hoppenstedtwiese\, (Präventionskurs\, flexibler Kartenkurs oder Hansefit)\, weitere Termine und Kursorte bei Steffi (0178/8630995\, Steffi-hannover@laufmamalauf.de) und www.laufmamalauf.de\, (jed. Di.)
URL:https://hannoverkids.de/event/outdoor-finess-3/
END:VEVENT
END:VCALENDAR