BEGIN:VCALENDAR
VERSION:2.0
PRODID:-//Hannover Kids - ECPv6.15.20//NONSGML v1.0//EN
CALSCALE:GREGORIAN
METHOD:PUBLISH
X-WR-CALNAME:Hannover Kids
X-ORIGINAL-URL:https://hannoverkids.de
X-WR-CALDESC:Veranstaltungen für Hannover Kids
REFRESH-INTERVAL;VALUE=DURATION:PT1H
X-Robots-Tag:noindex
X-PUBLISHED-TTL:PT1H
BEGIN:VTIMEZONE
TZID:Europe/Berlin
BEGIN:DAYLIGHT
TZOFFSETFROM:+0100
TZOFFSETTO:+0200
TZNAME:CEST
DTSTART:20250330T010000
END:DAYLIGHT
BEGIN:STANDARD
TZOFFSETFROM:+0200
TZOFFSETTO:+0100
TZNAME:CET
DTSTART:20251026T010000
END:STANDARD
BEGIN:DAYLIGHT
TZOFFSETFROM:+0100
TZOFFSETTO:+0200
TZNAME:CEST
DTSTART:20260329T010000
END:DAYLIGHT
BEGIN:STANDARD
TZOFFSETFROM:+0200
TZOFFSETTO:+0100
TZNAME:CET
DTSTART:20261025T010000
END:STANDARD
BEGIN:DAYLIGHT
TZOFFSETFROM:+0100
TZOFFSETTO:+0200
TZNAME:CEST
DTSTART:20270328T010000
END:DAYLIGHT
BEGIN:STANDARD
TZOFFSETFROM:+0200
TZOFFSETTO:+0100
TZNAME:CET
DTSTART:20271031T010000
END:STANDARD
END:VTIMEZONE
BEGIN:VEVENT
DTSTART;TZID=Europe/Berlin:20260510T090000
DTEND;TZID=Europe/Berlin:20260510T090000
DTSTAMP:20260425T153304
CREATED:20260421T090156Z
LAST-MODIFIED:20260421T090156Z
UID:2471-1778403600-1778403600@hannoverkids.de
SUMMARY:Familienfest im Zoo
DESCRIPTION:mit einem bunten Rahmenprogramm\, das Spaß\, Abenteuer und Artenschutz miteinander verbindet: Workshops\, Glücksrad\, Ausgrabungen für Kinder\, Murmeln bemalen\, Kinderschminken\, Hannovers Maskottchen treffen u.v.m.\, 9-18.30 Uhr\, www.zoo-hannover.de
URL:https://hannoverkids.de/event/familienfest-im-zoo-2/
END:VEVENT
BEGIN:VEVENT
DTSTART;TZID=Europe/Berlin:20260510T100000
DTEND;TZID=Europe/Berlin:20260510T100000
DTSTAMP:20260425T153304
CREATED:20260421T090211Z
LAST-MODIFIED:20260421T090211Z
UID:2477-1778407200-1778407200@hannoverkids.de
SUMMARY:Stadtteilfest Kirchrode
DESCRIPTION:Familientag mit Muttertagsspecial\, Beachvolleyball und Paddel-Turnier\, Mehrgenerationsolympiade u.v.m.\, 10-16 Uhr\, TKHasenheide\, Tiergartenstr. 23\, www.turn-klubb.de
URL:https://hannoverkids.de/event/stadtteilfest-kirchrode-2/
END:VEVENT
BEGIN:VEVENT
DTSTART;TZID=Europe/Berlin:20260510T110000
DTEND;TZID=Europe/Berlin:20260510T110000
DTSTAMP:20260425T153304
CREATED:20260421T090141Z
LAST-MODIFIED:20260421T090141Z
UID:2464-1778410800-1778410800@hannoverkids.de
SUMMARY:Frau Mangolds kleiner Garten
DESCRIPTION:für Kinder ab 4 J.\, 11 Uhr\, Theatermuseum Hannover\, Prinzenstr. 9\, Vorverkauf-Tel.: 99991111
URL:https://hannoverkids.de/event/frau-mangolds-kleiner-garten/
END:VEVENT
BEGIN:VEVENT
DTSTART;TZID=Europe/Berlin:20260510T110000
DTEND;TZID=Europe/Berlin:20260510T110000
DTSTAMP:20260425T153304
CREATED:20260421T090141Z
LAST-MODIFIED:20260421T090141Z
UID:2465-1778410800-1778410800@hannoverkids.de
SUMMARY:Der Froschkönig
DESCRIPTION:Das Wolfsburger Figurentheater Compagnie spielt für Kinder\, 11 Uhr\, Theatrio Figurentheaterhaus\, www.theatrio.de\, (auch 11.5.\, 10 Uhr)
URL:https://hannoverkids.de/event/der-froschkoenig/
END:VEVENT
BEGIN:VEVENT
DTSTART;TZID=Europe/Berlin:20260510T110000
DTEND;TZID=Europe/Berlin:20260510T110000
DTSTAMP:20260425T153304
CREATED:20260421T090141Z
LAST-MODIFIED:20260421T090141Z
UID:2467-1778410800-1778410800@hannoverkids.de
SUMMARY:Kestnerbanden Schön ver-KOPFt
DESCRIPTION:Bilder & Objekte für portraitverliebte Familien mit Kinder ab 3 J.\, 11-12.30 Uhr\, katja.krause@kestnergesellschaft.de\, www.kestnergesellschaft.de
URL:https://hannoverkids.de/event/kestnerbanden-schoen-ver-kopft/
END:VEVENT
BEGIN:VEVENT
DTSTART;TZID=Europe/Berlin:20260510T110000
DTEND;TZID=Europe/Berlin:20260510T110000
DTSTAMP:20260425T153304
CREATED:20260421T090156Z
LAST-MODIFIED:20260421T090156Z
UID:2470-1778410800-1778410800@hannoverkids.de
SUMMARY:kestnerkids
DESCRIPTION:…machen Kunst – Goes International. Surprise-Surprise! Kunst für Kids auf Englisch\, 5–12 Jahre\, 11–12.30 Uhr\,
URL:https://hannoverkids.de/event/kestnerkids-2/
END:VEVENT
BEGIN:VEVENT
DTSTART;TZID=Europe/Berlin:20260510T110000
DTEND;TZID=Europe/Berlin:20260510T110000
DTSTAMP:20260425T153304
CREATED:20260421T090211Z
LAST-MODIFIED:20260421T090211Z
UID:2473-1778410800-1778410800@hannoverkids.de
SUMMARY:Maizwerge
DESCRIPTION:von 3-5 J. in Begleitung eines Erw. auf Tour im Berggarten\, 11-13 Uhr\, Kosten: 9\,50 € pro Kind\, Erw. nur Garteneintritt\, Anm.: www.lili-claudius.de
URL:https://hannoverkids.de/event/maizwerge/
END:VEVENT
BEGIN:VEVENT
DTSTART;TZID=Europe/Berlin:20260510T110000
DTEND;TZID=Europe/Berlin:20260510T110000
DTSTAMP:20260425T153304
CREATED:20260421T090407Z
LAST-MODIFIED:20260421T090407Z
UID:2478-1778410800-1778410800@hannoverkids.de
SUMMARY:Kinderfest Staatsoper
DESCRIPTION:mit Monster-Forschungszentrale. Um 11 und 16 Uhr entdecken Kinder ab 6 J. und ihre Erwachsenen eine geheimnisvolle Welt voller Musik und arbeite mit den Gewerken der Oper an kreative Lösungen\, um die Monster-Forschung voranzubringen. Tickets zum Preis von 20 € / erm. ab 5 €: www.staatsoper-hannover.de
URL:https://hannoverkids.de/event/kinderfest-staatsoper/
END:VEVENT
BEGIN:VEVENT
DTSTART;TZID=Europe/Berlin:20260510T143000
DTEND;TZID=Europe/Berlin:20260510T143000
DTSTAMP:20260425T153304
CREATED:20260421T090156Z
LAST-MODIFIED:20260421T090156Z
UID:2469-1778423400-1778423400@hannoverkids.de
SUMMARY:Spiel:Zeit
DESCRIPTION:für Familien\, heute: Faszinierendes mit Seifenblasen & Schmuckwerkstatt\, 14.30-16.30 Uhr\, Anm.-Tel.: 168-49058\, STZ Sahlkamp
URL:https://hannoverkids.de/event/spielzeit-10/
END:VEVENT
BEGIN:VEVENT
DTSTART;TZID=Europe/Berlin:20260510T143000
DTEND;TZID=Europe/Berlin:20260510T143000
DTSTAMP:20260425T153304
CREATED:20260421T090156Z
LAST-MODIFIED:20260421T090211Z
UID:2468-1778423400-1778423400@hannoverkids.de
SUMMARY:Spiel:Zeit
DESCRIPTION:für Familien\, heute: Ausflug in den Berggarten\, 14.30-16.30 Uhr\, Anm.-Tel.: 168-34211\, FZH Linden
URL:https://hannoverkids.de/event/spielzeit-9/
END:VEVENT
BEGIN:VEVENT
DTSTART;TZID=Europe/Berlin:20260510T150000
DTEND;TZID=Europe/Berlin:20260510T150000
DTSTAMP:20260425T153304
CREATED:20260421T090157Z
LAST-MODIFIED:20260421T090157Z
UID:2472-1778425200-1778425200@hannoverkids.de
SUMMARY:Mutter*tag Special
DESCRIPTION:Ausstellungsrundgang für Familien\, 15 Uhr\, www.kunstverein-hannover.de
URL:https://hannoverkids.de/event/muttertag-special/
END:VEVENT
BEGIN:VEVENT
DTSTART;TZID=Europe/Berlin:20260510T150000
DTEND;TZID=Europe/Berlin:20260510T150000
DTSTAMP:20260425T153304
CREATED:20260421T090211Z
LAST-MODIFIED:20260421T090211Z
UID:2475-1778425200-1778425200@hannoverkids.de
SUMMARY:Fantastische Wesen
DESCRIPTION:in der griechischen Mythologie\, Familienführung ab 6 J.\, 15-17 Uhr\, Erw. Museumseintritt\, Kinder frei\, Anm.: Museumspaedagogik.Kestner@hannover-stadt.de\, Museum August Kestner
URL:https://hannoverkids.de/event/fantastische-wesen/
END:VEVENT
BEGIN:VEVENT
DTSTART;TZID=Europe/Berlin:20260510T154500
DTEND;TZID=Europe/Berlin:20260510T154500
DTSTAMP:20260425T153304
CREATED:20260421T090141Z
LAST-MODIFIED:20260421T090141Z
UID:2466-1778427900-1778427900@hannoverkids.de
SUMMARY:Checker Tobi 3
DESCRIPTION:und die heimliche Herrscherin der Erde\, 15.45 Uhr\, heute: Muttertagsaktion – Mütter in Begleitung des Kindes zahlen keinen Eintritt\, www.apollokino.de
URL:https://hannoverkids.de/event/checker-tobi-3-3/
END:VEVENT
END:VCALENDAR