BEGIN:VCALENDAR
VERSION:2.0
PRODID:-//Hannover Kids - ECPv6.15.20//NONSGML v1.0//EN
CALSCALE:GREGORIAN
METHOD:PUBLISH
X-WR-CALNAME:Hannover Kids
X-ORIGINAL-URL:https://hannoverkids.de
X-WR-CALDESC:Veranstaltungen für Hannover Kids
REFRESH-INTERVAL;VALUE=DURATION:PT1H
X-Robots-Tag:noindex
X-PUBLISHED-TTL:PT1H
BEGIN:VTIMEZONE
TZID:Europe/Berlin
BEGIN:DAYLIGHT
TZOFFSETFROM:+0100
TZOFFSETTO:+0200
TZNAME:CEST
DTSTART:20250330T010000
END:DAYLIGHT
BEGIN:STANDARD
TZOFFSETFROM:+0200
TZOFFSETTO:+0100
TZNAME:CET
DTSTART:20251026T010000
END:STANDARD
BEGIN:DAYLIGHT
TZOFFSETFROM:+0100
TZOFFSETTO:+0200
TZNAME:CEST
DTSTART:20260329T010000
END:DAYLIGHT
BEGIN:STANDARD
TZOFFSETFROM:+0200
TZOFFSETTO:+0100
TZNAME:CET
DTSTART:20261025T010000
END:STANDARD
BEGIN:DAYLIGHT
TZOFFSETFROM:+0100
TZOFFSETTO:+0200
TZNAME:CEST
DTSTART:20270328T010000
END:DAYLIGHT
BEGIN:STANDARD
TZOFFSETFROM:+0200
TZOFFSETTO:+0100
TZNAME:CET
DTSTART:20271031T010000
END:STANDARD
END:VTIMEZONE
BEGIN:VEVENT
DTSTART;TZID=Europe/Berlin:20260511T093000
DTEND;TZID=Europe/Berlin:20260511T093000
DTSTAMP:20260425T153319
CREATED:20260421T090407Z
LAST-MODIFIED:20260421T090407Z
UID:2480-1778491800-1778491800@hannoverkids.de
SUMMARY:BUSCH Babys
DESCRIPTION:Schauen\, Krabbeln\, Klönen. Kunst in entspannter Atmosphäre erleben Eltern und ihre Babys bis 18 Mon. Kurze Führung und Austausch. 9.30 und 11.30 Uhr\, Preis: 6 €\, 4 € erm.\, Babys krabbeln frei\, Anm.: www.karikatur-museum.de\, Museum Wilhelm Busch
URL:https://hannoverkids.de/event/busch-babys-3/
END:VEVENT
BEGIN:VEVENT
DTSTART;TZID=Europe/Berlin:20260511T100000
DTEND;TZID=Europe/Berlin:20260511T100000
DTSTAMP:20260425T153319
CREATED:20260421T090407Z
LAST-MODIFIED:20260421T090407Z
UID:2481-1778493600-1778493600@hannoverkids.de
SUMMARY:Eltern-Kind-Treff
DESCRIPTION:Informationsaustausch und Spiel-Treff für Eltern mit Kindern von 0-3 J.\, 10-12 Uhr\, kostenfrei\, einfach vorbeikommen\, Bürgerhaus Misburg\, Seckbruch Str. 20\, (jed. Mo.)
URL:https://hannoverkids.de/event/eltern-kind-treff-5/
END:VEVENT
BEGIN:VEVENT
DTSTART;TZID=Europe/Berlin:20260511T104500
DTEND;TZID=Europe/Berlin:20260511T104500
DTSTAMP:20260425T153319
CREATED:20260421T090407Z
LAST-MODIFIED:20260421T090407Z
UID:2482-1778496300-1778496300@hannoverkids.de
SUMMARY:Delfi
DESCRIPTION:Geburtsmonat 12/25\, 10.45-12.15\, bis 29.6.\, (7 Treffen)\, DRK Familienbildungsstätte\, Erwinstr. 8\, www.fabi.de
URL:https://hannoverkids.de/event/delfi/
END:VEVENT
BEGIN:VEVENT
DTSTART;TZID=Europe/Berlin:20260511T160000
DTEND;TZID=Europe/Berlin:20260511T160000
DTSTAMP:20260425T153319
CREATED:20260421T090407Z
LAST-MODIFIED:20260421T090407Z
UID:2479-1778515200-1778515200@hannoverkids.de
SUMMARY:Der Mond und seine Mutter
DESCRIPTION:Erzähltheater mit großen Bildkarten für Kinder ab 4 J.\, kostenfrei\, ohne Anm.\, 16 Uhr\, Stabi Kleefeld
URL:https://hannoverkids.de/event/der-mond-und-seine-mutter/
END:VEVENT
END:VCALENDAR