BEGIN:VCALENDAR
VERSION:2.0
PRODID:-//Hannover Kids - ECPv6.15.20//NONSGML v1.0//EN
CALSCALE:GREGORIAN
METHOD:PUBLISH
X-ORIGINAL-URL:https://hannoverkids.de
X-WR-CALDESC:Veranstaltungen für Hannover Kids
REFRESH-INTERVAL;VALUE=DURATION:PT1H
X-Robots-Tag:noindex
X-PUBLISHED-TTL:PT1H
BEGIN:VTIMEZONE
TZID:Europe/Berlin
BEGIN:DAYLIGHT
TZOFFSETFROM:+0100
TZOFFSETTO:+0200
TZNAME:CEST
DTSTART:20250330T010000
END:DAYLIGHT
BEGIN:STANDARD
TZOFFSETFROM:+0200
TZOFFSETTO:+0100
TZNAME:CET
DTSTART:20251026T010000
END:STANDARD
BEGIN:DAYLIGHT
TZOFFSETFROM:+0100
TZOFFSETTO:+0200
TZNAME:CEST
DTSTART:20260329T010000
END:DAYLIGHT
BEGIN:STANDARD
TZOFFSETFROM:+0200
TZOFFSETTO:+0100
TZNAME:CET
DTSTART:20261025T010000
END:STANDARD
BEGIN:DAYLIGHT
TZOFFSETFROM:+0100
TZOFFSETTO:+0200
TZNAME:CEST
DTSTART:20270328T010000
END:DAYLIGHT
BEGIN:STANDARD
TZOFFSETFROM:+0200
TZOFFSETTO:+0100
TZNAME:CET
DTSTART:20271031T010000
END:STANDARD
END:VTIMEZONE
BEGIN:VEVENT
DTSTART;TZID=Europe/Berlin:20260515T093000
DTEND;TZID=Europe/Berlin:20260515T093000
DTSTAMP:20260425T171130
CREATED:20260421T090437Z
LAST-MODIFIED:20260421T090437Z
UID:2490-1778837400-1778837400@hannoverkids.de
SUMMARY:Me-Time
DESCRIPTION:Durchatmen\, auftanken und kreativ sein – Rohkeramik bemalen. 9.30-12.30 Uhr\, Das Malcafé in Burgwedel\, www.das-malcafe.de\, (jed. 3. Fr. im Monat)
URL:https://hannoverkids.de/event/me-time/
END:VEVENT
BEGIN:VEVENT
DTSTART;TZID=Europe/Berlin:20260515T163000
DTEND;TZID=Europe/Berlin:20260515T163000
DTSTAMP:20260425T171130
CREATED:20260421T090437Z
LAST-MODIFIED:20260421T090437Z
UID:2489-1778862600-1778862600@hannoverkids.de
SUMMARY:Kinderzirkus Giovanni
DESCRIPTION:„Durch eine Achterbahn der Gefühle“\, im Zirkuszelt auf der Wiese am Neuen Rathaus\, Trammplatz\, 16.30 Uhr\, Erw. 12 €; Kinder 6 €\, Karten: www.kinderzirkus-giovanni.de.
URL:https://hannoverkids.de/event/kinderzirkus-giovanni-6/
END:VEVENT
END:VCALENDAR