BEGIN:VCALENDAR
VERSION:2.0
PRODID:-//Hannover Kids - ECPv6.15.20//NONSGML v1.0//EN
CALSCALE:GREGORIAN
METHOD:PUBLISH
X-WR-CALNAME:Hannover Kids
X-ORIGINAL-URL:https://hannoverkids.de
X-WR-CALDESC:Veranstaltungen für Hannover Kids
REFRESH-INTERVAL;VALUE=DURATION:PT1H
X-Robots-Tag:noindex
X-PUBLISHED-TTL:PT1H
BEGIN:VTIMEZONE
TZID:Europe/Berlin
BEGIN:DAYLIGHT
TZOFFSETFROM:+0100
TZOFFSETTO:+0200
TZNAME:CEST
DTSTART:20250330T010000
END:DAYLIGHT
BEGIN:STANDARD
TZOFFSETFROM:+0200
TZOFFSETTO:+0100
TZNAME:CET
DTSTART:20251026T010000
END:STANDARD
BEGIN:DAYLIGHT
TZOFFSETFROM:+0100
TZOFFSETTO:+0200
TZNAME:CEST
DTSTART:20260329T010000
END:DAYLIGHT
BEGIN:STANDARD
TZOFFSETFROM:+0200
TZOFFSETTO:+0100
TZNAME:CET
DTSTART:20261025T010000
END:STANDARD
BEGIN:DAYLIGHT
TZOFFSETFROM:+0100
TZOFFSETTO:+0200
TZNAME:CEST
DTSTART:20270328T010000
END:DAYLIGHT
BEGIN:STANDARD
TZOFFSETFROM:+0200
TZOFFSETTO:+0100
TZNAME:CET
DTSTART:20271031T010000
END:STANDARD
END:VTIMEZONE
BEGIN:VEVENT
DTSTART;TZID=Europe/Berlin:20260516T110000
DTEND;TZID=Europe/Berlin:20260516T110000
DTSTAMP:20260425T170731
CREATED:20260421T090452Z
LAST-MODIFIED:20260421T090452Z
UID:2493-1778929200-1778929200@hannoverkids.de
SUMMARY:Buntes Erdbeerfest
DESCRIPTION:mit kulinarischen Erdbeerköstlichkeiten\, großem Handwerkermarkt\, tollen Kinderaktionen\, Life-Musik\, Tombola\, Walking Acts\, Bratwurst und Burger\, ab 11 Uhr\, Eintritt frei! Kostenlose Parkplätze direkt am Hof. Gestorf\, www.sander-erdbeerhof.de
URL:https://hannoverkids.de/event/buntes-erdbeerfest/
END:VEVENT
BEGIN:VEVENT
DTSTART;TZID=Europe/Berlin:20260516T140000
DTEND;TZID=Europe/Berlin:20260516T140000
DTSTAMP:20260425T170731
CREATED:20260421T090437Z
LAST-MODIFIED:20260421T090437Z
UID:2491-1778940000-1778940000@hannoverkids.de
SUMMARY:Die kleinen Wilden und das Mammut
DESCRIPTION:Ein Kinderbuch nimmt  Familien mit Kindern von 5-8 J. mit in die Steinzeit\, Eintritt plus 3 €\, 14-16 Uhr\, Anm.: www.landesmuseum-hannover.de
URL:https://hannoverkids.de/event/die-kleinen-wilden-und-das-mammut-2/
END:VEVENT
BEGIN:VEVENT
DTSTART;TZID=Europe/Berlin:20260516T170000
DTEND;TZID=Europe/Berlin:20260516T170000
DTSTAMP:20260425T170731
CREATED:20260421T090437Z
LAST-MODIFIED:20260421T090437Z
UID:2492-1778950800-1778950800@hannoverkids.de
SUMMARY:Frühjahrs-Secondhand-Basar
DESCRIPTION:14 bis 17 Uhr\, Veranstaltungsort: Gemeindehaus Bugenhagen-Kirchengemeinde Hannover\, Stresemannallee 34
URL:https://hannoverkids.de/event/fruehjahrs-secondhand-basar-2/
END:VEVENT
END:VCALENDAR