BEGIN:VCALENDAR
VERSION:2.0
PRODID:-//Hannover Kids - ECPv6.15.20//NONSGML v1.0//EN
CALSCALE:GREGORIAN
METHOD:PUBLISH
X-ORIGINAL-URL:https://hannoverkids.de
X-WR-CALDESC:Veranstaltungen für Hannover Kids
REFRESH-INTERVAL;VALUE=DURATION:PT1H
X-Robots-Tag:noindex
X-PUBLISHED-TTL:PT1H
BEGIN:VTIMEZONE
TZID:Europe/Berlin
BEGIN:DAYLIGHT
TZOFFSETFROM:+0100
TZOFFSETTO:+0200
TZNAME:CEST
DTSTART:20250330T010000
END:DAYLIGHT
BEGIN:STANDARD
TZOFFSETFROM:+0200
TZOFFSETTO:+0100
TZNAME:CET
DTSTART:20251026T010000
END:STANDARD
BEGIN:DAYLIGHT
TZOFFSETFROM:+0100
TZOFFSETTO:+0200
TZNAME:CEST
DTSTART:20260329T010000
END:DAYLIGHT
BEGIN:STANDARD
TZOFFSETFROM:+0200
TZOFFSETTO:+0100
TZNAME:CET
DTSTART:20261025T010000
END:STANDARD
BEGIN:DAYLIGHT
TZOFFSETFROM:+0100
TZOFFSETTO:+0200
TZNAME:CEST
DTSTART:20270328T010000
END:DAYLIGHT
BEGIN:STANDARD
TZOFFSETFROM:+0200
TZOFFSETTO:+0100
TZNAME:CET
DTSTART:20271031T010000
END:STANDARD
END:VTIMEZONE
BEGIN:VEVENT
DTSTART;TZID=Europe/Berlin:20260518T090000
DTEND;TZID=Europe/Berlin:20260518T090000
DTSTAMP:20260425T171033
CREATED:20260421T090522Z
LAST-MODIFIED:20260421T090522Z
UID:2503-1779094800-1779094800@hannoverkids.de
SUMMARY:Delfi
DESCRIPTION:Geburtsmonat 3/26\, 9-10.30 Uhr\, bis 29.6.\, (6 Treffen)\, DRK Familienbildungsstätte\, Erwinstr. 8\, www.fabi.de
URL:https://hannoverkids.de/event/delfi-3/
END:VEVENT
BEGIN:VEVENT
DTSTART;TZID=Europe/Berlin:20260518T150000
DTEND;TZID=Europe/Berlin:20260518T150000
DTSTAMP:20260425T171033
CREATED:20260421T090507Z
LAST-MODIFIED:20260421T090507Z
UID:2502-1779116400-1779116400@hannoverkids.de
SUMMARY:Gaming-Turnier
DESCRIPTION:mit Super Mario für alle von 10 – 99 J.\, 15-16 Uhr\, kostenfrei\, ohne Anm.\, Stabi Hildesheimer Str. 12
URL:https://hannoverkids.de/event/gaming-turnier/
END:VEVENT
END:VCALENDAR