BEGIN:VCALENDAR
VERSION:2.0
PRODID:-//Hannover Kids - ECPv6.15.20//NONSGML v1.0//EN
CALSCALE:GREGORIAN
METHOD:PUBLISH
X-ORIGINAL-URL:https://hannoverkids.de
X-WR-CALDESC:Veranstaltungen für Hannover Kids
REFRESH-INTERVAL;VALUE=DURATION:PT1H
X-Robots-Tag:noindex
X-PUBLISHED-TTL:PT1H
BEGIN:VTIMEZONE
TZID:Europe/Berlin
BEGIN:DAYLIGHT
TZOFFSETFROM:+0100
TZOFFSETTO:+0200
TZNAME:CEST
DTSTART:20250330T010000
END:DAYLIGHT
BEGIN:STANDARD
TZOFFSETFROM:+0200
TZOFFSETTO:+0100
TZNAME:CET
DTSTART:20251026T010000
END:STANDARD
BEGIN:DAYLIGHT
TZOFFSETFROM:+0100
TZOFFSETTO:+0200
TZNAME:CEST
DTSTART:20260329T010000
END:DAYLIGHT
BEGIN:STANDARD
TZOFFSETFROM:+0200
TZOFFSETTO:+0100
TZNAME:CET
DTSTART:20261025T010000
END:STANDARD
BEGIN:DAYLIGHT
TZOFFSETFROM:+0100
TZOFFSETTO:+0200
TZNAME:CEST
DTSTART:20270328T010000
END:DAYLIGHT
BEGIN:STANDARD
TZOFFSETFROM:+0200
TZOFFSETTO:+0100
TZNAME:CET
DTSTART:20271031T010000
END:STANDARD
END:VTIMEZONE
BEGIN:VEVENT
DTSTART;TZID=Europe/Berlin:20260522T093000
DTEND;TZID=Europe/Berlin:20260522T093000
DTSTAMP:20260425T173039
CREATED:20260421T090552Z
LAST-MODIFIED:20260421T090552Z
UID:2515-1779442200-1779442200@hannoverkids.de
SUMMARY:Babycafé Elterntreff
DESCRIPTION:Calenberger Neustadt: Offener Treff für Eltern mit Babys und Kleinkindern\, ab 9.30 Uhr\, Calenberger Straße 19\, www.kath-fabi-hannover.de
URL:https://hannoverkids.de/event/babycafe-elterntreff/
END:VEVENT
BEGIN:VEVENT
DTSTART;TZID=Europe/Berlin:20260522T093000
DTEND;TZID=Europe/Berlin:20260522T093000
DTSTAMP:20260425T173039
CREATED:20260421T090552Z
LAST-MODIFIED:20260421T090552Z
UID:2516-1779442200-1779442200@hannoverkids.de
SUMMARY:Me-Time
DESCRIPTION:Durchatmen\, auftanken und kreativ sein – Rohkeramik bemalen. 9.30-12.30 Uhr\, Das Malcafé in Mellendorf\, www.das-malcafe.de\, (jed. 4. Fr. im Monat)
URL:https://hannoverkids.de/event/me-time-2/
END:VEVENT
BEGIN:VEVENT
DTSTART;TZID=Europe/Berlin:20260522T140000
DTEND;TZID=Europe/Berlin:20260522T140000
DTSTAMP:20260425T173039
CREATED:20260421T090537Z
LAST-MODIFIED:20260421T090537Z
UID:2511-1779458400-1779458400@hannoverkids.de
SUMMARY:Offene Werkstatt
DESCRIPTION:Klebt Collagen! Für Alle. Jedes Alter. Ohne Anmeldung. Ohne Kosten. 14-17 Uhr\, www.kestnergesellschaft.de
URL:https://hannoverkids.de/event/offene-werkstatt-4/
END:VEVENT
BEGIN:VEVENT
DTSTART;TZID=Europe/Berlin:20260522T150000
DTEND;TZID=Europe/Berlin:20260522T150000
DTSTAMP:20260425T173039
CREATED:20260421T090537Z
LAST-MODIFIED:20260421T090537Z
UID:2512-1779462000-1779462000@hannoverkids.de
SUMMARY:Akademie der Lebenserfahrung
DESCRIPTION:Offene Werkstatt für Kinder und Familien\, kostenfrei\, ohne Anm.\, 15-17 Uhr\, www.kunstverein-hannover.de
URL:https://hannoverkids.de/event/akademie-der-lebenserfahrung/
END:VEVENT
BEGIN:VEVENT
DTSTART;TZID=Europe/Berlin:20260522T160000
DTEND;TZID=Europe/Berlin:20260522T160000
DTSTAMP:20260425T173039
CREATED:20260421T090552Z
LAST-MODIFIED:20260421T090552Z
UID:2513-1779465600-1779465600@hannoverkids.de
SUMMARY:Stadtteilbauernhof Sahlkamp
DESCRIPTION:Den Stadtteilbauernhof und die Tiere kennenlernen!  Für Kinder und Jugendliche ab 6 J.\,  15 bis 16 Uhr\,  Rumpelstilzchenweg 5\, www.stadtteilbauernhof-hannover.de
URL:https://hannoverkids.de/event/stadtteilbauernhof-sahlkamp/
END:VEVENT
BEGIN:VEVENT
DTSTART;TZID=Europe/Berlin:20260522T170000
DTEND;TZID=Europe/Berlin:20260522T170000
DTSTAMP:20260425T173039
CREATED:20260421T090552Z
LAST-MODIFIED:20260421T090552Z
UID:2514-1779469200-1779469200@hannoverkids.de
SUMMARY:Koreanischer Schwertkampf
DESCRIPTION:(Haidong Gumdo\, 17 Uhr für Kinder von 6-12 J.\, Sportakademie Dr. Lee\, kostenlose Probestunde und Voranmeldung: www.sport-lee.de oder 0511/ 44 13 43 (jed. Fr.)
URL:https://hannoverkids.de/event/koreanischer-schwertkampf-3/
END:VEVENT
END:VCALENDAR