BEGIN:VCALENDAR
VERSION:2.0
PRODID:-//Hannover Kids - ECPv6.15.20//NONSGML v1.0//EN
CALSCALE:GREGORIAN
METHOD:PUBLISH
X-ORIGINAL-URL:https://hannoverkids.de
X-WR-CALDESC:Veranstaltungen für Hannover Kids
REFRESH-INTERVAL;VALUE=DURATION:PT1H
X-Robots-Tag:noindex
X-PUBLISHED-TTL:PT1H
BEGIN:VTIMEZONE
TZID:Europe/Berlin
BEGIN:DAYLIGHT
TZOFFSETFROM:+0100
TZOFFSETTO:+0200
TZNAME:CEST
DTSTART:20250330T010000
END:DAYLIGHT
BEGIN:STANDARD
TZOFFSETFROM:+0200
TZOFFSETTO:+0100
TZNAME:CET
DTSTART:20251026T010000
END:STANDARD
BEGIN:DAYLIGHT
TZOFFSETFROM:+0100
TZOFFSETTO:+0200
TZNAME:CEST
DTSTART:20260329T010000
END:DAYLIGHT
BEGIN:STANDARD
TZOFFSETFROM:+0200
TZOFFSETTO:+0100
TZNAME:CET
DTSTART:20261025T010000
END:STANDARD
BEGIN:DAYLIGHT
TZOFFSETFROM:+0100
TZOFFSETTO:+0200
TZNAME:CEST
DTSTART:20270328T010000
END:DAYLIGHT
BEGIN:STANDARD
TZOFFSETFROM:+0200
TZOFFSETTO:+0100
TZNAME:CET
DTSTART:20271031T010000
END:STANDARD
END:VTIMEZONE
BEGIN:VEVENT
DTSTART;TZID=Europe/Berlin:20260531T110000
DTEND;TZID=Europe/Berlin:20260531T110000
DTSTAMP:20260425T153439
CREATED:20260421T090725Z
LAST-MODIFIED:20260421T090725Z
UID:2544-1780225200-1780225200@hannoverkids.de
SUMMARY:Die Abenteuer der Musikpiraten
DESCRIPTION:Eine musikalische Piratengeschichte mit dem Figurentheater Die roten Finger\, 11 Uhr\, Figurentheater Theatrio\, Tickets:  www. theatrio.de\, (auch 2.6. um 10 Uhr)
URL:https://hannoverkids.de/event/die-abenteuer-der-musikpiraten/
END:VEVENT
BEGIN:VEVENT
DTSTART;TZID=Europe/Berlin:20260531T110000
DTEND;TZID=Europe/Berlin:20260531T110000
DTSTAMP:20260425T153439
CREATED:20260421T090725Z
LAST-MODIFIED:20260421T090725Z
UID:2545-1780225200-1780225200@hannoverkids.de
SUMMARY:Hörfest auf dem Waldberg
DESCRIPTION:10 Jahre Hörregion – Feier mit tollen Mitmach-Aktionen\, Konzerten\, Hörtests  für kleine und große Menschen! Kein Eintritt\, 11-18 Uhr\, Waldberg Empelde\, Hansastr. 55 A\, www.hörregion-hannover.de
URL:https://hannoverkids.de/event/hoerfest-auf-dem-waldberg/
END:VEVENT
BEGIN:VEVENT
DTSTART;TZID=Europe/Berlin:20260531T111500
DTEND;TZID=Europe/Berlin:20260531T111500
DTSTAMP:20260425T153439
CREATED:20260421T090725Z
LAST-MODIFIED:20260421T090725Z
UID:2546-1780226100-1780226100@hannoverkids.de
SUMMARY:Busch Familie
DESCRIPTION:Heute: Zeichnen in der Natur – Kinder ab 4 J. gehen gemeinsam mit ihren Lieblingsmenschen auf eine spannende Reise in den Garten hinter dem MUSEUM Wilhelm BUSCH. 8 €\, mit H.A.P. 5 €\, 11.15 Uhr\, Anm.: www.karikatur-museum.de\, Museum Wilhelm Busch
URL:https://hannoverkids.de/event/busch-familie-3/
END:VEVENT
BEGIN:VEVENT
DTSTART;TZID=Europe/Berlin:20260531T143000
DTEND;TZID=Europe/Berlin:20260531T143000
DTSTAMP:20260425T153439
CREATED:20260421T090725Z
LAST-MODIFIED:20260421T090725Z
UID:2547-1780237800-1780237800@hannoverkids.de
SUMMARY:Spiel:Zeit
DESCRIPTION:für Familien\, heute: Sportspiele im Park\, 14.30-16.30 Uhr\, Anm.-Tel.: 168-34478\, FZH Vahrenwald
URL:https://hannoverkids.de/event/spielzeit-12/
END:VEVENT
END:VCALENDAR