BEGIN:VCALENDAR
VERSION:2.0
PRODID:-//Hannover Kids - ECPv6.15.18//NONSGML v1.0//EN
CALSCALE:GREGORIAN
METHOD:PUBLISH
X-ORIGINAL-URL:https://hannoverkids.de
X-WR-CALDESC:Veranstaltungen für Hannover Kids
REFRESH-INTERVAL;VALUE=DURATION:PT1H
X-Robots-Tag:noindex
X-PUBLISHED-TTL:PT1H
BEGIN:VTIMEZONE
TZID:Europe/Berlin
BEGIN:DAYLIGHT
TZOFFSETFROM:+0100
TZOFFSETTO:+0200
TZNAME:CEST
DTSTART:20250330T010000
END:DAYLIGHT
BEGIN:STANDARD
TZOFFSETFROM:+0200
TZOFFSETTO:+0100
TZNAME:CET
DTSTART:20251026T010000
END:STANDARD
BEGIN:DAYLIGHT
TZOFFSETFROM:+0100
TZOFFSETTO:+0200
TZNAME:CEST
DTSTART:20260329T010000
END:DAYLIGHT
BEGIN:STANDARD
TZOFFSETFROM:+0200
TZOFFSETTO:+0100
TZNAME:CET
DTSTART:20261025T010000
END:STANDARD
BEGIN:DAYLIGHT
TZOFFSETFROM:+0100
TZOFFSETTO:+0200
TZNAME:CEST
DTSTART:20270328T010000
END:DAYLIGHT
BEGIN:STANDARD
TZOFFSETFROM:+0200
TZOFFSETTO:+0100
TZNAME:CET
DTSTART:20271031T010000
END:STANDARD
END:VTIMEZONE
BEGIN:VEVENT
DTSTART;TZID=Europe/Berlin:20260423T150000
DTEND;TZID=Europe/Berlin:20260423T150000
DTSTAMP:20260419T141744
CREATED:20260320T080935Z
LAST-MODIFIED:20260320T080935Z
UID:2213-1776956400-1776956400@hannoverkids.de
SUMMARY:Geisterhaus & Körperzauber
DESCRIPTION:Kindervernissage für Familien mit Kids ab 3 J. mit tollen Mitmachaktionen. 15-17 Uhr\, ohne Anm.\, Eintritt frei\, Kestner Gesellschaft\, www.kestnergesellschaft.de
URL:https://hannoverkids.de/event/geisterhaus-koerperzauber/
END:VEVENT
BEGIN:VEVENT
DTSTART;TZID=Europe/Berlin:20260423T160000
DTEND;TZID=Europe/Berlin:20260423T160000
DTSTAMP:20260419T141744
CREATED:20260319T102324Z
LAST-MODIFIED:20260320T080935Z
UID:1934-1776960000-1776960000@hannoverkids.de
SUMMARY:Bilderbuchkino
DESCRIPTION:für Kinder ab 4 J.\, kostenfrei\, ohne Anm.\, 16 Uhr\, Stabi Kleefeld\, (jed. Do.)
URL:https://hannoverkids.de/event/bilderbuchkino-2/
END:VEVENT
BEGIN:VEVENT
DTSTART;VALUE=DATE:20260424
DTEND;VALUE=DATE:20260425
DTSTAMP:20260419T141744
CREATED:20260319T102324Z
LAST-MODIFIED:20260320T080935Z
UID:1938-1776988800-1777075199@hannoverkids.de
SUMMARY:Animal Crossing: New Horizons
DESCRIPTION:Bis zum 30.4. treffen kleine Besucher*innen im SEA Life Hannover Pinguin Sonja\, Affe Pippo\, Tom Nook. Zusätzlich sammeln sie Stempel und entdecken zahlreiche Meeresbewohner*innen. www.visitsealife.com/hannover
URL:https://hannoverkids.de/event/animal-crossing-new-horizons-8/
END:VEVENT
BEGIN:VEVENT
DTSTART;TZID=Europe/Berlin:20260424T090000
DTEND;TZID=Europe/Berlin:20260424T090000
DTSTAMP:20260419T141744
CREATED:20260319T102339Z
LAST-MODIFIED:20260320T080947Z
UID:1943-1777021200-1777021200@hannoverkids.de
SUMMARY:Baby-Schwimmen
DESCRIPTION:Für Babys ab 4 Mon.\, 9 Uhr bis 9\,45 Uhr oder 9.45-10.30 Uhr\, Mehrfachkarte auch in Kombi mit Baby-Sauna möglich\, Wasserwelt Langenhagen\, Anm.: www.wasserwelt-langenhagen.de\, (jed. Fr. und Di.)
URL:https://hannoverkids.de/event/baby-schwimmen-2/
END:VEVENT
BEGIN:VEVENT
DTSTART;TZID=Europe/Berlin:20260424T100000
DTEND;TZID=Europe/Berlin:20260424T100000
DTSTAMP:20260419T141744
CREATED:20260319T102354Z
LAST-MODIFIED:20260320T080947Z
UID:1944-1777024800-1777024800@hannoverkids.de
SUMMARY:Fit mit Baby
DESCRIPTION:Für Babys von 0 bis 1 J.\,10-11 Uhr\, Schnupperstunde möglich\, Vereinszentrum Hannover 96\, www.96vereinszentrum.de\, (jed. Fr.)
URL:https://hannoverkids.de/event/fit-mit-baby-2/
END:VEVENT
BEGIN:VEVENT
DTSTART;TZID=Europe/Berlin:20260424T103000
DTEND;TZID=Europe/Berlin:20260424T103000
DTSTAMP:20260419T141744
CREATED:20260319T102324Z
LAST-MODIFIED:20260320T080935Z
UID:1936-1777026600-1777026600@hannoverkids.de
SUMMARY:Frederick
DESCRIPTION:Die „Artisanenen“ spielen für Kinder von 4-8 J.\, 10.30 Uhr\, Kosten: 5\,-€ p.P.; mit HAP: Kinder kostenfrei und Erw.50%\, Anm.: stz-krokus-kultur@hannover-stadt.de\, KroKuS\, Thie 6
URL:https://hannoverkids.de/event/frederick/
END:VEVENT
BEGIN:VEVENT
DTSTART;TZID=Europe/Berlin:20260424T103000
DTEND;TZID=Europe/Berlin:20260424T103000
DTSTAMP:20260419T141744
CREATED:20260319T102339Z
LAST-MODIFIED:20260320T080947Z
UID:1942-1777026600-1777026600@hannoverkids.de
SUMMARY:Kinderwagen-Kino
DESCRIPTION:„Die Älteren“\, 10.30 Uhr\, www.apollokino.de
URL:https://hannoverkids.de/event/kinderwagen-kino-2/
END:VEVENT
BEGIN:VEVENT
DTSTART;TZID=Europe/Berlin:20260424T140000
DTEND;TZID=Europe/Berlin:20260424T140000
DTSTAMP:20260419T141744
CREATED:20260319T102339Z
LAST-MODIFIED:20260320T080935Z
UID:1941-1777039200-1777039200@hannoverkids.de
SUMMARY:Offene Werkstatt
DESCRIPTION:für alle\, 14-17 Uhr\, ohne Anm.\, kostenfrei\, Sprengel Museum
URL:https://hannoverkids.de/event/offene-werkstatt-3/
END:VEVENT
BEGIN:VEVENT
DTSTART;TZID=Europe/Berlin:20260424T163000
DTEND;TZID=Europe/Berlin:20260424T163000
DTSTAMP:20260419T141744
CREATED:20260319T102324Z
LAST-MODIFIED:20260320T080935Z
UID:1937-1777048200-1777048200@hannoverkids.de
SUMMARY:Kinderzirkus Giovanni
DESCRIPTION:„Durch eine Achterbahn der Gefühle“\, heute Premiere um 16.30 Uhr\, Zirkuszelt auf der Wiese hinter dem Johanneshof; am Homannhof 10\, Erwachsene 12 €; Kinder 6 € \, Karten: www.kinderzirkus-giovanni.de.
URL:https://hannoverkids.de/event/kinderzirkus-giovanni/
END:VEVENT
BEGIN:VEVENT
DTSTART;TZID=Europe/Berlin:20260424T170000
DTEND;TZID=Europe/Berlin:20260424T170000
DTSTAMP:20260419T141744
CREATED:20260319T102339Z
LAST-MODIFIED:20260320T080935Z
UID:1940-1777050000-1777050000@hannoverkids.de
SUMMARY:Koreanischer Schwertkampf
DESCRIPTION:(Haidong Gumdo)\, 17 Uhr für Kinder von 6-12 J.\, Sportakademie Dr. Lee\, kostenlose Probestunde und Voranmeldung: www.sport-lee.de oder 0511/ 44 13 43\, (jed. Fr.)
URL:https://hannoverkids.de/event/koreanischer-schwertkampf-2/
END:VEVENT
BEGIN:VEVENT
DTSTART;TZID=Europe/Berlin:20260424T194500
DTEND;TZID=Europe/Berlin:20260424T194500
DTSTAMP:20260419T141744
CREATED:20260319T102339Z
LAST-MODIFIED:20260320T080935Z
UID:1939-1777059900-1777059900@hannoverkids.de
SUMMARY:Kobolde der Nacht
DESCRIPTION:Die Fledermaustour für Kinder ab 6 J. mit Lilli & Claudius\, 19.45 Uhr\, Anm. und Infos: www.kindermuseum-hannover.de
URL:https://hannoverkids.de/event/kobolde-der-nacht/
END:VEVENT
BEGIN:VEVENT
DTSTART;TZID=Europe/Berlin:20260425T100000
DTEND;TZID=Europe/Berlin:20260425T100000
DTSTAMP:20260419T141744
CREATED:20260319T102354Z
LAST-MODIFIED:20260320T080947Z
UID:1947-1777111200-1777111200@hannoverkids.de
SUMMARY:Kreativzone
DESCRIPTION:Für alle von 4- 99 J.\, heute: Gute Laune Mix – Form und Farbe aus Pappe und Karton\, 10-12 Uhr\, kostenfrei\, ohne Anm.\, Foyer im Lindener Rathaus
URL:https://hannoverkids.de/event/kreativzone-5/
END:VEVENT
BEGIN:VEVENT
DTSTART;TZID=Europe/Berlin:20260425T100000
DTEND;TZID=Europe/Berlin:20260425T100000
DTSTAMP:20260419T141744
CREATED:20260319T102409Z
LAST-MODIFIED:20260320T080947Z
UID:1953-1777111200-1777111200@hannoverkids.de
SUMMARY:Hilf mir\, es selbst zu tun
DESCRIPTION:– Montessori für zu Hause. Ein Kurs über Montessori für Eltern und Fachpersonen. 10 – 15 Uhr\, Nina Rajkovic-Lege\, Anm. www.kath-fabi-hannover.de
URL:https://hannoverkids.de/event/hilf-mir-es-selbst-zu-tun/
END:VEVENT
BEGIN:VEVENT
DTSTART;TZID=Europe/Berlin:20260425T103000
DTEND;TZID=Europe/Berlin:20260425T103000
DTSTAMP:20260419T141744
CREATED:20260319T102409Z
LAST-MODIFIED:20260320T080947Z
UID:1949-1777113000-1777113000@hannoverkids.de
SUMMARY:Luckys Spielzeit
DESCRIPTION:Bewegungslandschaft zum Springen\, Klettern und Rutschen für Kids 0- 10 J.\, 10.30-16.30 Uhr\, Sportzentrum City (Maschstr. 16)\, www.turn-klubb.de
URL:https://hannoverkids.de/event/luckys-spielzeit/
END:VEVENT
BEGIN:VEVENT
DTSTART;TZID=Europe/Berlin:20260425T103000
DTEND;TZID=Europe/Berlin:20260425T103000
DTSTAMP:20260419T141744
CREATED:20260319T102409Z
LAST-MODIFIED:20260320T080947Z
UID:1950-1777113000-1777113000@hannoverkids.de
SUMMARY:Ohren gespitzt
DESCRIPTION:Wie Tiere und Menschen die Welt hören\, Kinder von 8-12 J. gehen auf ein Hörabenteuer und entdecken tierische Hörsuperkräfte. 10.\, 10.30.\, 11.\, 11.30 Uhr jeweils 20 Min.\, ohne Anm.\, Kindermuseum Zinnober\, www.kindermuseum-hannover.de
URL:https://hannoverkids.de/event/ohren-gespitzt/
END:VEVENT
BEGIN:VEVENT
DTSTART;TZID=Europe/Berlin:20260425T120000
DTEND;TZID=Europe/Berlin:20260425T120000
DTSTAMP:20260419T141744
CREATED:20260319T102354Z
LAST-MODIFIED:20260320T080947Z
UID:1946-1777118400-1777118400@hannoverkids.de
SUMMARY:Kunsttauchkurs
DESCRIPTION:Spielerisches Eintauchen in die Ausstellung\, von 5-8 J. von 12-13.30 Uhr und für Kinder von 8-11 J. von 14-16 Uhr\, 5 €\, 3 € für Mitgliederkinder\, Anm.: kinder@kunstverein-hannover.de\, www.kunstverein-hannover.de
URL:https://hannoverkids.de/event/kunsttauchkurs-2/
END:VEVENT
BEGIN:VEVENT
DTSTART;TZID=Europe/Berlin:20260425T140000
DTEND;TZID=Europe/Berlin:20260425T140000
DTSTAMP:20260419T141744
CREATED:20260319T102409Z
LAST-MODIFIED:20260320T080947Z
UID:1952-1777125600-1777125600@hannoverkids.de
SUMMARY:Abenteuerreise
DESCRIPTION:durch den Kinderwald. Ein Liverollenspiel für Kinder von 6-12 J.\, 14-17 Uhr\, kostenfrei\, Anm.: daniel.baum@waldritter.de\, www.kinderwald.de
URL:https://hannoverkids.de/event/abenteuerreise-2/
END:VEVENT
BEGIN:VEVENT
DTSTART;TZID=Europe/Berlin:20260425T150000
DTEND;TZID=Europe/Berlin:20260425T150000
DTSTAMP:20260419T141744
CREATED:20260319T102354Z
LAST-MODIFIED:20260320T080947Z
UID:1948-1777129200-1777129200@hannoverkids.de
SUMMARY:Musikalischer Waldspaziergang
DESCRIPTION:Mit Bollerwagen\, Instrumenten und Spielen zieht Liedermacher Unmada mit Fiona (aus der Kinderwaldschule) und Kindern durch den Kinderwald\, 15-17 Uhr\, Kosten: 4 Euro pro Person\, Anm.: fiona.elisa@posteo.de\, www.kinderwald.de
URL:https://hannoverkids.de/event/musikalischer-waldspaziergang/
END:VEVENT
BEGIN:VEVENT
DTSTART;TZID=Europe/Berlin:20260425T153000
DTEND;TZID=Europe/Berlin:20260425T153000
DTSTAMP:20260419T141744
CREATED:20260319T102354Z
LAST-MODIFIED:20260320T080947Z
UID:1945-1777131000-1777131000@hannoverkids.de
SUMMARY:Kinderzirkus Giovanni
DESCRIPTION:„Durch eine Achterbahn der Gefühle“\, 11 und 15.30 Uhr\, Zirkuszelt auf der Wiese hinter dem Johanneshof; am Homannhof 10\, Erwachsene 12 €; Kinder 6 € \, Karten: www.kinderzirkus-giovanni.de.
URL:https://hannoverkids.de/event/kinderzirkus-giovanni-2/
END:VEVENT
BEGIN:VEVENT
DTSTART;TZID=Europe/Berlin:20260425T194500
DTEND;TZID=Europe/Berlin:20260425T194500
DTSTAMP:20260419T141744
CREATED:20260320T080947Z
LAST-MODIFIED:20260320T080947Z
UID:2229-1777146300-1777146300@hannoverkids.de
SUMMARY:Fledermausführung
DESCRIPTION:Erw. und Kinder gehen in den Wald und beobachten Fledermäuse\, 19.45 Uhr\, Anm.: Stadtteilzentrum-Ricklingen@Hannover-Stadt.de\, Kosten: Erw. 7 €\, Kinder von 8-16 J.\, 5 €\, STZ Ricklingen
URL:https://hannoverkids.de/event/fledermausfuehrung/
END:VEVENT
BEGIN:VEVENT
DTSTART;TZID=Europe/Berlin:20260426T100000
DTEND;TZID=Europe/Berlin:20260426T100000
DTSTAMP:20260419T141744
CREATED:20260320T080947Z
LAST-MODIFIED:20260320T080947Z
UID:2232-1777197600-1777197600@hannoverkids.de
SUMMARY:Als der Tiger einmal Bär sein wollte
DESCRIPTION:Das Figurentheater Marmelock spielt im Museum Wilhelm Busch\,10 Uhr\, Ki. und Erw. 8 €\, Anm.: www.karikatur-museum.de
URL:https://hannoverkids.de/event/als-der-tiger-einmal-baer-sein-wollte/
END:VEVENT
BEGIN:VEVENT
DTSTART;TZID=Europe/Berlin:20260426T110000
DTEND;TZID=Europe/Berlin:20260426T110000
DTSTAMP:20260419T141744
CREATED:20260319T102424Z
LAST-MODIFIED:20260320T080947Z
UID:1956-1777201200-1777201200@hannoverkids.de
SUMMARY:Peter und der Wolf
DESCRIPTION:Das Figurentheater Neumond spielt für Kinder ab 5 J.\, 11 Uhr\, Figurentheaterhaus\, www.theatrio.de\, (27. bis 30.4. um 10 Uhr)
URL:https://hannoverkids.de/event/peter-und-der-wolf-2/
END:VEVENT
BEGIN:VEVENT
DTSTART;TZID=Europe/Berlin:20260426T110000
DTEND;TZID=Europe/Berlin:20260426T110000
DTSTAMP:20260419T141744
CREATED:20260319T102424Z
LAST-MODIFIED:20260320T080947Z
UID:1955-1777201200-1777201200@hannoverkids.de
SUMMARY:Das Neinhorn
DESCRIPTION:11 & 16 Uhr\, für Kinder von 5-8 J.\, Theatermuseum Hannover\, Prinzenstr. 9\, Vorverkauf-Tel.: 99991111
URL:https://hannoverkids.de/event/das-neinhorn/
END:VEVENT
BEGIN:VEVENT
DTSTART;TZID=Europe/Berlin:20260426T110000
DTEND;TZID=Europe/Berlin:20260426T110000
DTSTAMP:20260419T141744
CREATED:20260320T080947Z
LAST-MODIFIED:20260320T080947Z
UID:2235-1777201200-1777201200@hannoverkids.de
SUMMARY:„So bin ich"
DESCRIPTION:Für Familien mit Kindern von 3-6 J.\, 11 Uhr. Eine stimmliche Achterbahn mit neu arrangierten Kinderliedern\, klassischen Klängen und kreative Bildern zum Hören\, Mitbewegen und Staunen. Anm.: stadtteilzentrum-lister-turm@hannover-stadt.de\, Kosten und Infos: www.stz-lister-turm.de
URL:https://hannoverkids.de/event/so-bin-ich-2/
END:VEVENT
BEGIN:VEVENT
DTSTART;TZID=Europe/Berlin:20260426T110000
DTEND;TZID=Europe/Berlin:20260426T110000
DTSTAMP:20260419T141744
CREATED:20260320T080947Z
LAST-MODIFIED:20260320T080947Z
UID:2238-1777201200-1777201200@hannoverkids.de
SUMMARY:Die große Finissage
DESCRIPTION:der Ausstellung Lauscher\, Löffel\, Labertasche mit einer großen Hörkarawane und vielen Aktionen\, 11-16 Uhr\, ohne Anm.\, kostenfrei\, Kindermuseum Zinnober\, www.kindermuseum-hannover.de
URL:https://hannoverkids.de/event/die-grosse-finissage/
END:VEVENT
BEGIN:VEVENT
DTSTART;TZID=Europe/Berlin:20260426T140000
DTEND;TZID=Europe/Berlin:20260426T140000
DTSTAMP:20260419T141744
CREATED:20260319T102439Z
LAST-MODIFIED:20260320T080947Z
UID:1959-1777212000-1777212000@hannoverkids.de
SUMMARY:Das neue Rathaus entdecken
DESCRIPTION:Blick hinter die Kulissen\, Kosten: Erw. 11\, Kinder\, Schüler\, Studenten 8 €\, Tickets: https://www.hannover-tourismus.de/das-neue-rathaus-entdecken/#/\, 14 Uhr\, Platz der Menschenrechte 1
URL:https://hannoverkids.de/event/das-neue-rathaus-entdecken-2/
END:VEVENT
BEGIN:VEVENT
DTSTART;TZID=Europe/Berlin:20260426T150000
DTEND;TZID=Europe/Berlin:20260426T150000
DTSTAMP:20260419T141744
CREATED:20260319T102439Z
LAST-MODIFIED:20260320T080947Z
UID:1961-1777215600-1777215600@hannoverkids.de
SUMMARY:Fit und gesund
DESCRIPTION:Familiennachmittag für alle mit Kindern bis 11 J. mit Bewegung\, Musik\, Kreativem\, Spielen\, Bilderbuchkino\, Stöbern in der Bücherei. Eintritt frei! Ohne Anm.\, 15-17.30 Uhr\, Kulturtreff Vahrenheide.
URL:https://hannoverkids.de/event/fit-und-gesund/
END:VEVENT
BEGIN:VEVENT
DTSTART;TZID=Europe/Berlin:20260426T153000
DTEND;TZID=Europe/Berlin:20260426T153000
DTSTAMP:20260419T141744
CREATED:20260319T102424Z
LAST-MODIFIED:20260320T080947Z
UID:1958-1777217400-1777217400@hannoverkids.de
SUMMARY:Kinderzirkus Giovanni
DESCRIPTION:„Durch eine Achterbahn der Gefühle“\, 11 und 15.30 Uhr\, Zirkuszelt auf der Wiese hinter dem Johanneshof; am Homannhof 10\, Erwachsene 12 €; Kinder 6 € \, Karten: www.kinderzirkus-giovanni.de.
URL:https://hannoverkids.de/event/kinderzirkus-giovanni-3/
END:VEVENT
BEGIN:VEVENT
DTSTART;TZID=Europe/Berlin:20260427T150000
DTEND;TZID=Europe/Berlin:20260427T150000
DTSTAMP:20260419T141744
CREATED:20260319T102439Z
LAST-MODIFIED:20260320T080956Z
UID:1963-1777302000-1777302000@hannoverkids.de
SUMMARY:Kung Fu Tiny Little Pandas
DESCRIPTION:für Kinder von 2-4 J. in Elternbegleitung\, jeden Fr. um 15 Uhr und jeden Mo. um 17 Uhr\, Sportakademie Dr. Lee\, kostenlose Probestunde und Voranmeldung: www.sport-lee.de oder 0511/ 44 13 43 (jed. Mo. und Fr.)
URL:https://hannoverkids.de/event/kung-fu-tiny-little-pandas-2/
END:VEVENT
BEGIN:VEVENT
DTSTART;TZID=Europe/Berlin:20260427T160000
DTEND;TZID=Europe/Berlin:20260427T160000
DTSTAMP:20260419T141744
CREATED:20260319T102439Z
LAST-MODIFIED:20260320T080956Z
UID:1962-1777305600-1777305600@hannoverkids.de
SUMMARY:Elamar
DESCRIPTION:Kamishibai\, Erzähltheater mit großen Bildkarten\, für Kinder ab 4 J.\, kostenfrei\, ohne Anm.\, 16 Uhr\, Stabi Kleefeld
URL:https://hannoverkids.de/event/elamar/
END:VEVENT
END:VCALENDAR