BEGIN:VCALENDAR
VERSION:2.0
PRODID:-//Hannover Kids - ECPv6.15.18//NONSGML v1.0//EN
CALSCALE:GREGORIAN
METHOD:PUBLISH
X-ORIGINAL-URL:https://hannoverkids.de
X-WR-CALDESC:Veranstaltungen für Hannover Kids
REFRESH-INTERVAL;VALUE=DURATION:PT1H
X-Robots-Tag:noindex
X-PUBLISHED-TTL:PT1H
BEGIN:VTIMEZONE
TZID:Europe/Berlin
BEGIN:DAYLIGHT
TZOFFSETFROM:+0100
TZOFFSETTO:+0200
TZNAME:CEST
DTSTART:20250330T010000
END:DAYLIGHT
BEGIN:STANDARD
TZOFFSETFROM:+0200
TZOFFSETTO:+0100
TZNAME:CET
DTSTART:20251026T010000
END:STANDARD
BEGIN:DAYLIGHT
TZOFFSETFROM:+0100
TZOFFSETTO:+0200
TZNAME:CEST
DTSTART:20260329T010000
END:DAYLIGHT
BEGIN:STANDARD
TZOFFSETFROM:+0200
TZOFFSETTO:+0100
TZNAME:CET
DTSTART:20261025T010000
END:STANDARD
BEGIN:DAYLIGHT
TZOFFSETFROM:+0100
TZOFFSETTO:+0200
TZNAME:CEST
DTSTART:20270328T010000
END:DAYLIGHT
BEGIN:STANDARD
TZOFFSETFROM:+0200
TZOFFSETTO:+0100
TZNAME:CET
DTSTART:20271031T010000
END:STANDARD
END:VTIMEZONE
BEGIN:VEVENT
DTSTART;TZID=Europe/Berlin:20260426T150000
DTEND;TZID=Europe/Berlin:20260426T150000
DTSTAMP:20260419T175159
CREATED:20260319T102439Z
LAST-MODIFIED:20260320T080947Z
UID:1961-1777215600-1777215600@hannoverkids.de
SUMMARY:Fit und gesund
DESCRIPTION:Familiennachmittag für alle mit Kindern bis 11 J. mit Bewegung\, Musik\, Kreativem\, Spielen\, Bilderbuchkino\, Stöbern in der Bücherei. Eintritt frei! Ohne Anm.\, 15-17.30 Uhr\, Kulturtreff Vahrenheide.
URL:https://hannoverkids.de/event/fit-und-gesund/
END:VEVENT
BEGIN:VEVENT
DTSTART;TZID=Europe/Berlin:20260426T153000
DTEND;TZID=Europe/Berlin:20260426T153000
DTSTAMP:20260419T175159
CREATED:20260319T102424Z
LAST-MODIFIED:20260320T080947Z
UID:1958-1777217400-1777217400@hannoverkids.de
SUMMARY:Kinderzirkus Giovanni
DESCRIPTION:„Durch eine Achterbahn der Gefühle“\, 11 und 15.30 Uhr\, Zirkuszelt auf der Wiese hinter dem Johanneshof; am Homannhof 10\, Erwachsene 12 €; Kinder 6 € \, Karten: www.kinderzirkus-giovanni.de.
URL:https://hannoverkids.de/event/kinderzirkus-giovanni-3/
END:VEVENT
BEGIN:VEVENT
DTSTART;TZID=Europe/Berlin:20260427T150000
DTEND;TZID=Europe/Berlin:20260427T150000
DTSTAMP:20260419T175159
CREATED:20260319T102439Z
LAST-MODIFIED:20260320T080956Z
UID:1963-1777302000-1777302000@hannoverkids.de
SUMMARY:Kung Fu Tiny Little Pandas
DESCRIPTION:für Kinder von 2-4 J. in Elternbegleitung\, jeden Fr. um 15 Uhr und jeden Mo. um 17 Uhr\, Sportakademie Dr. Lee\, kostenlose Probestunde und Voranmeldung: www.sport-lee.de oder 0511/ 44 13 43 (jed. Mo. und Fr.)
URL:https://hannoverkids.de/event/kung-fu-tiny-little-pandas-2/
END:VEVENT
BEGIN:VEVENT
DTSTART;TZID=Europe/Berlin:20260427T160000
DTEND;TZID=Europe/Berlin:20260427T160000
DTSTAMP:20260419T175159
CREATED:20260319T102439Z
LAST-MODIFIED:20260320T080956Z
UID:1962-1777305600-1777305600@hannoverkids.de
SUMMARY:Elamar
DESCRIPTION:Kamishibai\, Erzähltheater mit großen Bildkarten\, für Kinder ab 4 J.\, kostenfrei\, ohne Anm.\, 16 Uhr\, Stabi Kleefeld
URL:https://hannoverkids.de/event/elamar/
END:VEVENT
BEGIN:VEVENT
DTSTART;TZID=Europe/Berlin:20260428T153000
DTEND;TZID=Europe/Berlin:20260428T153000
DTSTAMP:20260419T175159
CREATED:20260319T102454Z
LAST-MODIFIED:20260320T080956Z
UID:1964-1777390200-1777390200@hannoverkids.de
SUMMARY:Kombi-Athleten
DESCRIPTION:für Kinder 1-5 J. mit Eltern von 15.30-16.30 Uhr und Fun-Fußball für Kinder 6-8 J. von 14.45-15.45 Uhr\, Schnupperstunde jederzeit möglich\, 96 Vereinszentrum\, www.96kindersport.de\, (jed. Di.)
URL:https://hannoverkids.de/event/kombi-athleten/
END:VEVENT
BEGIN:VEVENT
DTSTART;TZID=Europe/Berlin:20260429T154500
DTEND;TZID=Europe/Berlin:20260429T154500
DTSTAMP:20260419T175159
CREATED:20260320T080956Z
LAST-MODIFIED:20260320T080956Z
UID:2243-1777477500-1777477500@hannoverkids.de
SUMMARY:Mädchen-Fun-Fußball
DESCRIPTION:für Mädchen 6-8 J. von 15.45-16.45 Uhr\, Schnupperstunde jederzeit möglich\, 96 Vereinszentrum\, www.96kindersport.de\, (jed. Mo.)
URL:https://hannoverkids.de/event/maedchen-fun-fussball/
END:VEVENT
BEGIN:VEVENT
DTSTART;TZID=Europe/Berlin:20260430T133000
DTEND;TZID=Europe/Berlin:20260430T133000
DTSTAMP:20260419T175159
CREATED:20260319T102454Z
LAST-MODIFIED:20260320T080956Z
UID:1966-1777555800-1777555800@hannoverkids.de
SUMMARY:Lustiges Pettersson
DESCRIPTION:und Findus-Mitmachkino 2\, 13.30 Uhr\, Raschplatzkinos\, www.filmkunstkinos-hannover.de\, (bis 6.5.)
URL:https://hannoverkids.de/event/lustiges-pettersson/
END:VEVENT
END:VCALENDAR