BEGIN:VCALENDAR
VERSION:2.0
PRODID:-//Hannover Kids - ECPv6.15.18//NONSGML v1.0//EN
CALSCALE:GREGORIAN
METHOD:PUBLISH
X-WR-CALNAME:Hannover Kids
X-ORIGINAL-URL:https://hannoverkids.de
X-WR-CALDESC:Veranstaltungen für Hannover Kids
REFRESH-INTERVAL;VALUE=DURATION:PT1H
X-Robots-Tag:noindex
X-PUBLISHED-TTL:PT1H
BEGIN:VTIMEZONE
TZID:Europe/Berlin
BEGIN:DAYLIGHT
TZOFFSETFROM:+0100
TZOFFSETTO:+0200
TZNAME:CEST
DTSTART:20250330T010000
END:DAYLIGHT
BEGIN:STANDARD
TZOFFSETFROM:+0200
TZOFFSETTO:+0100
TZNAME:CET
DTSTART:20251026T010000
END:STANDARD
BEGIN:DAYLIGHT
TZOFFSETFROM:+0100
TZOFFSETTO:+0200
TZNAME:CEST
DTSTART:20260329T010000
END:DAYLIGHT
BEGIN:STANDARD
TZOFFSETFROM:+0200
TZOFFSETTO:+0100
TZNAME:CET
DTSTART:20261025T010000
END:STANDARD
BEGIN:DAYLIGHT
TZOFFSETFROM:+0100
TZOFFSETTO:+0200
TZNAME:CEST
DTSTART:20270328T010000
END:DAYLIGHT
BEGIN:STANDARD
TZOFFSETFROM:+0200
TZOFFSETTO:+0100
TZNAME:CET
DTSTART:20271031T010000
END:STANDARD
END:VTIMEZONE
BEGIN:VEVENT
DTSTART;VALUE=DATE:20260301
DTEND;VALUE=DATE:20260302
DTSTAMP:20260419T170953
CREATED:20260216T124619Z
LAST-MODIFIED:20260219T084643Z
UID:1391-1772323200-1772409599@hannoverkids.de
SUMMARY:Animal Crossing: New Horizons
DESCRIPTION:Bis zum 30.4. treffen kleine Besucher*innen im SEA Life Hannover Pinguin Sonja\, Affe Pippo\, Tom Nook. Zusätzlich sammeln sie Stempel und entdecken zahlreiche Meeresbewohner*innen. www.visitsealife.com/hannover
URL:https://hannoverkids.de/event/animal-crossing-new-horizons-4/
END:VEVENT
BEGIN:VEVENT
DTSTART;TZID=Europe/Berlin:20260301T110000
DTEND;TZID=Europe/Berlin:20260301T110000
DTSTAMP:20260419T170953
CREATED:20260216T125127Z
LAST-MODIFIED:20260217T083811Z
UID:1412-1772362800-1772362800@hannoverkids.de
SUMMARY:Kennlern- und Anmeldetag 2026
DESCRIPTION:11-12 Uhr für 5-7 jährige\, 12-13 Uhr für 8-9 jährige. Ohne Anm.\, Infos: Knabenchor Hannover\, Plüschowstr. 4 \, Tel: 0511-882388\, www.knabenchor-hannover.de
URL:https://hannoverkids.de/event/kennlern-und-anmeldetag-2026-5/
END:VEVENT
BEGIN:VEVENT
DTSTART;TZID=Europe/Berlin:20260301T110000
DTEND;TZID=Europe/Berlin:20260301T110000
DTSTAMP:20260419T170953
CREATED:20260217T083810Z
LAST-MODIFIED:20260217T083810Z
UID:1439-1772362800-1772362800@hannoverkids.de
SUMMARY:Konrad und Lorenz
DESCRIPTION:Figurentheater Neumond für Kinder ab 4 J.\, 11 Uhr\, Figurentheaterhaus Theatrio\, www.theatrio.de\, (auch 3.3.\, 10 Uhr)
URL:https://hannoverkids.de/event/konrad-und-lorenz-5/
END:VEVENT
BEGIN:VEVENT
DTSTART;TZID=Europe/Berlin:20260301T111500
DTEND;TZID=Europe/Berlin:20260301T111500
DTSTAMP:20260419T170953
CREATED:20260216T125127Z
LAST-MODIFIED:20260217T083811Z
UID:1413-1772363700-1772363700@hannoverkids.de
SUMMARY:Geschichte zum Ausprobieren
DESCRIPTION:2 Std. Workshop mit thematischer Einführung und Kreativaktion für Eltern mit Kindern von 6-10 J.\, Heute: Hygiene vom Mittelalter bis heute – Duftsäckchen herstellen\, 4 € pro Pers.\, 11.15-13.15 Uhr\, buchungen.hmh@hannover-stadt.de\, Hannover Kiosk des Historischen Museums
URL:https://hannoverkids.de/event/geschichte-zum-ausprobieren-5/
END:VEVENT
BEGIN:VEVENT
DTSTART;TZID=Europe/Berlin:20260301T140000
DTEND;TZID=Europe/Berlin:20260301T140000
DTSTAMP:20260419T170953
CREATED:20260216T125125Z
LAST-MODIFIED:20260217T083810Z
UID:1407-1772373600-1772373600@hannoverkids.de
SUMMARY:Das Theater Calimero
DESCRIPTION:präsentiert „Die Olchis“ um 14 Uhr und „Yakari“ um 16 Uhr\, im beheizten Zelt auf dem Schützenplatz\, Tickets: Theaterkasse und online zzgl. VVK – Gebühr. www.figurentheater-calimero.de\, (jed. Sa. & So. bis 15.3.)
URL:https://hannoverkids.de/event/das-theater-calimero-4/
END:VEVENT
BEGIN:VEVENT
DTSTART;TZID=Europe/Berlin:20260301T140000
DTEND;TZID=Europe/Berlin:20260301T140000
DTSTAMP:20260419T170953
CREATED:20260217T083810Z
LAST-MODIFIED:20260217T083810Z
UID:1440-1772373600-1772373600@hannoverkids.de
SUMMARY:Apollo Kino
DESCRIPTION:14 Uhr „Ab morgen bin ich mutig“\, 16 Uhr „Spongebob Schwammkopf – Piraten Ahoi!“ www.apollo-kino.de
URL:https://hannoverkids.de/event/apollo-kino-5/
END:VEVENT
BEGIN:VEVENT
DTSTART;TZID=Europe/Berlin:20260301T143000
DTEND;TZID=Europe/Berlin:20260301T143000
DTSTAMP:20260419T170953
CREATED:20260216T125127Z
LAST-MODIFIED:20260217T083811Z
UID:1416-1772375400-1772375400@hannoverkids.de
SUMMARY:Spiel:Zeit
DESCRIPTION:Dosentelefone bauen\, 14.30-16.30 Uhr\, kostenfrei\, ohne Anm.\, STZ Stöcken
URL:https://hannoverkids.de/event/spielzeit-5/
END:VEVENT
BEGIN:VEVENT
DTSTART;TZID=Europe/Berlin:20260301T160000
DTEND;TZID=Europe/Berlin:20260301T160000
DTSTAMP:20260419T170953
CREATED:20260217T083810Z
LAST-MODIFIED:20260217T083810Z
UID:1438-1772380800-1772380800@hannoverkids.de
SUMMARY:Hase und Igel
DESCRIPTION:für Kinder ab 3 J.\, 16 Uhr\, Theatermuseum Hannover\, Prinzenstr. 9\, Vorverkauf-Tel.: 99991111
URL:https://hannoverkids.de/event/hase-und-igel-5/
END:VEVENT
BEGIN:VEVENT
DTSTART;TZID=Europe/Berlin:20260301T160000
DTEND;TZID=Europe/Berlin:20260301T160000
DTSTAMP:20260419T170953
CREATED:20260217T083811Z
LAST-MODIFIED:20260217T083811Z
UID:1441-1772380800-1772380800@hannoverkids.de
SUMMARY:Familienworkout
DESCRIPTION:Gemeinsam Lachen\, spielen\, sich bewegen mit bis zu 4 Pers. pro Familie\, 16-17 Uhr\, B.e.a.t. Athletikzentrum Sehnde\, www.beat-athletik.de\, (jed. So.)
URL:https://hannoverkids.de/event/familienworkout-6/
END:VEVENT
BEGIN:VEVENT
DTSTART;TZID=Europe/Berlin:20260301T163000
DTEND;TZID=Europe/Berlin:20260301T163000
DTSTAMP:20260419T170953
CREATED:20260216T125126Z
LAST-MODIFIED:20260217T083810Z
UID:1411-1772382600-1772382600@hannoverkids.de
SUMMARY:DIE RECKEN
DESCRIPTION:vs. FRISCH AUF! Göppingen – Musik-Spieltag\, 16.30 Uhr\, ZAG Arena\, www.recken-tickets.de
URL:https://hannoverkids.de/event/die-recken-4/
END:VEVENT
BEGIN:VEVENT
DTSTART;TZID=Europe/Berlin:20260302T000000
DTEND;TZID=Europe/Berlin:20260302T000000
DTSTAMP:20260419T170953
CREATED:20260217T083826Z
LAST-MODIFIED:20260217T083826Z
UID:1445-1772409600-1772409600@hannoverkids.de
SUMMARY:Eltern-Kind-Treff
DESCRIPTION:Offenes Angebot für Eltern mit Kindern von 0-3 J.\, kostenfrei\, einfach vorbeikommen\, Info-Tel.: 168-3 19 29\, Bürgerhaus Misburg\, www.buergerhaus-misburg.de\, (jed. Mo.)
URL:https://hannoverkids.de/event/eltern-kind-treff/
END:VEVENT
BEGIN:VEVENT
DTSTART;TZID=Europe/Berlin:20260302T093000
DTEND;TZID=Europe/Berlin:20260302T093000
DTSTAMP:20260419T170953
CREATED:20260217T083826Z
LAST-MODIFIED:20260217T083826Z
UID:1446-1772443800-1772443800@hannoverkids.de
SUMMARY:BUSCH Babys
DESCRIPTION:Schauen\, Krabbeln\, Klönen. Kunst in entspannter Atmosphäre erleben Eltern und ihre Babys bis 18 Mon. Kurze Führung und Austausch. 9.30 und 11.30 Uhr\, Preis: 6 €\, 4 € erm.\, Babys krabbeln frei\, Anm.: www.karikatur-museum.de\, Museum Wilhelm Busch
URL:https://hannoverkids.de/event/busch-babys/
END:VEVENT
BEGIN:VEVENT
DTSTART;TZID=Europe/Berlin:20260302T150000
DTEND;TZID=Europe/Berlin:20260302T150000
DTSTAMP:20260419T170953
CREATED:20260217T083826Z
LAST-MODIFIED:20260217T083826Z
UID:1444-1772463600-1772463600@hannoverkids.de
SUMMARY:Kung Fu Tiny Little Pandas
DESCRIPTION:Für Kinder von 2-4 J. in Elternbegleitung\, jeden Fr. um 15 Uhr und jeden Mo. um 17 Uhr\, Sportakademie Dr. Lee\, kostenlose Probestunde und Voranmeldung: www.sport-lee.de oder 0511/ 44 13 43\, (jed. Mo. und Fr.)
URL:https://hannoverkids.de/event/kung-fu-tiny-little-pandas/
END:VEVENT
BEGIN:VEVENT
DTSTART;TZID=Europe/Berlin:20260302T163000
DTEND;TZID=Europe/Berlin:20260302T163000
DTSTAMP:20260419T170953
CREATED:20260217T083826Z
LAST-MODIFIED:20260217T083826Z
UID:1443-1772469000-1772469000@hannoverkids.de
SUMMARY:Simsalagrim
DESCRIPTION:Das Figurentheater Calimero spielt im beheizten Zelt auf dem Schützenplatz\, 16.30 Uhr\, Tickets: Theaterkasse und online zzgl. VVK – Gebühr. www.figurentheater-calimero.de\, (jed. Mo. bis 15.3.)
URL:https://hannoverkids.de/event/simsalagrim/
END:VEVENT
BEGIN:VEVENT
DTSTART;TZID=Europe/Berlin:20260302T180000
DTEND;TZID=Europe/Berlin:20260302T180000
DTSTAMP:20260419T170953
CREATED:20260217T083827Z
LAST-MODIFIED:20260217T083827Z
UID:1447-1772474400-1772474400@hannoverkids.de
SUMMARY:Angebote B.e.a.t. Athletik
DESCRIPTION:Yoga für Einsteiger*innen von 18-19.30 Uhr und für Fortgeschrittene „Yoga meets Pilates“ von 19.45- 20.45 Uhr\, B.e.a.t. Athletikzentrum Sehnde\, www.beat-athlethik.de\, (jed. Mo.)
URL:https://hannoverkids.de/event/angebote-b-e-a-t-athletik/
END:VEVENT
BEGIN:VEVENT
DTSTART;TZID=Europe/Berlin:20260303T160000
DTEND;TZID=Europe/Berlin:20260303T160000
DTSTAMP:20260419T170953
CREATED:20260217T083903Z
LAST-MODIFIED:20260217T083903Z
UID:1448-1772553600-1772553600@hannoverkids.de
SUMMARY:VR-Special
DESCRIPTION:Thechnothek Hannover\, für alle ab 12 J.\, die sich für virtuelle Erlebnisse interessieren und in die Welt der VR-Brillen eintauchen möchten\, 16-17 Uhr\, ohne Anm.\, kostenfrei\, Stadtbibliothek\, Hildesheimerstr. 12
URL:https://hannoverkids.de/event/vr-special/
END:VEVENT
BEGIN:VEVENT
DTSTART;TZID=Europe/Berlin:20260303T190000
DTEND;TZID=Europe/Berlin:20260303T190000
DTSTAMP:20260419T170953
CREATED:20260217T083903Z
LAST-MODIFIED:20260217T083903Z
UID:1449-1772564400-1772564400@hannoverkids.de
SUMMARY:Zirkeltraining
DESCRIPTION:für Fortgeschrittene von 19-20 Uhr\, B.e.a.t. Athletikzentrum Sehnde\, www.beat-athlethik.de\, (jed. Di.)
URL:https://hannoverkids.de/event/zirkeltraining/
END:VEVENT
BEGIN:VEVENT
DTSTART;TZID=Europe/Berlin:20260304T100000
DTEND;TZID=Europe/Berlin:20260304T100000
DTSTAMP:20260419T170953
CREATED:20260217T083903Z
LAST-MODIFIED:20260217T083903Z
UID:1451-1772618400-1772618400@hannoverkids.de
SUMMARY:Griffbereit
DESCRIPTION:Anregungen für gemeinsame Finger- und Bewegungsspiele\, malen\, reimen\, singen\, sowie Informationen zu Gesundheits- und Alltagsfragen\, für Kinder ab 1 Jahr\, 10-12 Uhr\, ohne Anm.\, STZ Ricklingen\, (jed. Mi.)
URL:https://hannoverkids.de/event/griffbereit/
END:VEVENT
BEGIN:VEVENT
DTSTART;TZID=Europe/Berlin:20260304T153000
DTEND;TZID=Europe/Berlin:20260304T153000
DTSTAMP:20260419T170953
CREATED:20260217T083903Z
LAST-MODIFIED:20260217T083903Z
UID:1450-1772638200-1772638200@hannoverkids.de
SUMMARY:Töpfern
DESCRIPTION:Für Kinder ab 7 J.\, 5 Termine bis 15.4. jeweils von 15.30-17 Uhr\, Kosten 50 €\, mit HAP 25 €\, Anm.: fzh-linden@hannover-stadt.de\, FZH Linden
URL:https://hannoverkids.de/event/toepfern/
END:VEVENT
BEGIN:VEVENT
DTSTART;TZID=Europe/Berlin:20260304T154500
DTEND;TZID=Europe/Berlin:20260304T154500
DTSTAMP:20260419T170953
CREATED:20260217T083903Z
LAST-MODIFIED:20260217T083903Z
UID:1452-1772639100-1772639100@hannoverkids.de
SUMMARY:RaKäthe Resilienztraining
DESCRIPTION:15.45 Uhr\, KEKZ Pattensen\, www.kekz-pattensen.de\, (jed. Mi.)
URL:https://hannoverkids.de/event/rakaethe-resilienztraining/
END:VEVENT
BEGIN:VEVENT
DTSTART;TZID=Europe/Berlin:20260305T170000
DTEND;TZID=Europe/Berlin:20260305T170000
DTSTAMP:20260419T170953
CREATED:20260217T091118Z
LAST-MODIFIED:20260217T091118Z
UID:1453-1772730000-1772730000@hannoverkids.de
SUMMARY:Angebote B.e.a.t. Athletik
DESCRIPTION:Zirkeltraining für Einsteiger*innen von 17-18 Uhr und Beat Calistenics für Fortgeschrittene von 18-19 Uhr\, B.e.a.t. Athletikzentrum Sehnde\, www.beat-athlethik.de\, (jed. Do.)
URL:https://hannoverkids.de/event/angebote-b-e-a-t-athletik-2/
END:VEVENT
BEGIN:VEVENT
DTSTART;TZID=Europe/Berlin:20260306T143000
DTEND;TZID=Europe/Berlin:20260306T143000
DTSTAMP:20260419T170953
CREATED:20260217T091118Z
LAST-MODIFIED:20260217T091118Z
UID:1456-1772807400-1772807400@hannoverkids.de
SUMMARY:Sprengel Knirpse
DESCRIPTION:Gabriela Jolowicz\, Maria BVG\, 2025: Für Kinder von 3 bis 5 J. mit ihren Lieblingsmenschen.14.30 und 16 Uhr\, Anm.: biver.smh@hannover-stadt.de\, Sprengel Museum
URL:https://hannoverkids.de/event/sprengel-knirpse/
END:VEVENT
BEGIN:VEVENT
DTSTART;TZID=Europe/Berlin:20260306T150000
DTEND;TZID=Europe/Berlin:20260306T150000
DTSTAMP:20260419T170953
CREATED:20260217T091118Z
LAST-MODIFIED:20260217T091118Z
UID:1457-1772809200-1772809200@hannoverkids.de
SUMMARY:Eltern-Kind-Yoga
DESCRIPTION:15 Uhr im KEKZ Pattensen\, Infos: www.kekz-pattensen.de\, (jed. Fr.)
URL:https://hannoverkids.de/event/eltern-kind-yoga/
END:VEVENT
BEGIN:VEVENT
DTSTART;TZID=Europe/Berlin:20260306T160000
DTEND;TZID=Europe/Berlin:20260306T160000
DTSTAMP:20260419T170953
CREATED:20260217T091118Z
LAST-MODIFIED:20260217T091118Z
UID:1455-1772812800-1772812800@hannoverkids.de
SUMMARY:Dr. Brumm baut ein Haus
DESCRIPTION:Bilderbuchkino für Kinder ab 4 J.\, kostenfrei\, ohne Anm.\, 16 Uhr\, Stabi Kleefeld
URL:https://hannoverkids.de/event/dr-brumm-baut-ein-haus/
END:VEVENT
BEGIN:VEVENT
DTSTART;TZID=Europe/Berlin:20260306T163000
DTEND;TZID=Europe/Berlin:20260306T163000
DTSTAMP:20260419T170953
CREATED:20260217T091118Z
LAST-MODIFIED:20260217T091118Z
UID:1454-1772814600-1772814600@hannoverkids.de
SUMMARY:Pettersson & Findus
DESCRIPTION:Das Figurentheater Calimero spielt im beheizten Zelt auf dem Schützenplatz\, 16.30 Uhr\, Tickets: Theaterkasse und online zzgl. VVK – Gebühr. www.figurentheater-calimero.de\, (jed. Fr. bis 15.3.)
URL:https://hannoverkids.de/event/pettersson-findus/
END:VEVENT
BEGIN:VEVENT
DTSTART;TZID=Europe/Berlin:20260307T100000
DTEND;TZID=Europe/Berlin:20260307T100000
DTSTAMP:20260419T170953
CREATED:20260217T091129Z
LAST-MODIFIED:20260217T091129Z
UID:1460-1772877600-1772877600@hannoverkids.de
SUMMARY:KreativZone
DESCRIPTION:für alle von 4-bis 99 J.\, heute: Frühlingserwachen – stempeln mit Farbe\, kostenfrei\, ohne Anm.\, 10-12 Uhr\, Lindener Rathaus
URL:https://hannoverkids.de/event/kreativzone/
END:VEVENT
BEGIN:VEVENT
DTSTART;TZID=Europe/Berlin:20260307T100000
DTEND;TZID=Europe/Berlin:20260307T100000
DTSTAMP:20260419T170953
CREATED:20260217T091139Z
LAST-MODIFIED:20260217T091139Z
UID:1467-1772877600-1772877600@hannoverkids.de
SUMMARY:Offenes Foyer
DESCRIPTION:Mit kleinen Konzerten\, Diskussionen\, Präsentationen und Einladungen zum Mitsingen und gemütlicher Kinderspielecke 10-14 Uhr\, Opernhaus Hannover\, (bis 21.3.\, jed. Sa.)
URL:https://hannoverkids.de/event/offenes-foyer/
END:VEVENT
BEGIN:VEVENT
DTSTART;TZID=Europe/Berlin:20260307T100000
DTEND;TZID=Europe/Berlin:20260307T100000
DTSTAMP:20260419T170953
CREATED:20260217T091140Z
LAST-MODIFIED:20260217T091140Z
UID:1468-1772877600-1772877600@hannoverkids.de
SUMMARY:Angebote b.e.a.t. Athletik
DESCRIPTION:Walking für Einsteiger*innen jeden Alters von 10-11 Uhr und für Fortgeschrittene „Run-Laufkurs“ von 11-12 Uhr\, B.e.a.t. Athletikzentrum Sehnde\, www.beat-athlethik.de\, (jed. Sa.)
URL:https://hannoverkids.de/event/angebote-b-e-a-t-athletik-3/
END:VEVENT
BEGIN:VEVENT
DTSTART;TZID=Europe/Berlin:20260307T110000
DTEND;TZID=Europe/Berlin:20260307T110000
DTSTAMP:20260419T170953
CREATED:20260217T091139Z
LAST-MODIFIED:20260217T091139Z
UID:1463-1772881200-1772881200@hannoverkids.de
SUMMARY:Wie klingt Zinnober?
DESCRIPTION:Wie klingen Pappe\, Holz\, Stifte und Gummi? Für Kinder ab 6 J.\, ohne Anm.\, 11-14 Uhr\, Kindermuseum Zinnober\, www.kindermuseum-hannover.de
URL:https://hannoverkids.de/event/wie-klingt-zinnober/
END:VEVENT
BEGIN:VEVENT
DTSTART;TZID=Europe/Berlin:20260307T110000
DTEND;TZID=Europe/Berlin:20260307T110000
DTSTAMP:20260419T170953
CREATED:20260217T091139Z
LAST-MODIFIED:20260217T091139Z
UID:1464-1772881200-1772881200@hannoverkids.de
SUMMARY:kestnerkids machen Kunst
DESCRIPTION:Goes International: Kunst für Kinder von 5-12 J. auf Englisch. 11-12.30 Uhr\, 6 € inkl. Material\, 3 € Mitgliederkinder und Geschwister\, mit HAP frei\, Anm.: katja.krause@kestnergesellschaft.de\, Kestner Gesellschaft
URL:https://hannoverkids.de/event/kestnerkids-machen-kunst/
END:VEVENT
END:VCALENDAR