BEGIN:VCALENDAR
VERSION:2.0
PRODID:-//Hannover Kids - ECPv6.15.20//NONSGML v1.0//EN
CALSCALE:GREGORIAN
METHOD:PUBLISH
X-ORIGINAL-URL:https://hannoverkids.de
X-WR-CALDESC:Veranstaltungen für Hannover Kids
REFRESH-INTERVAL;VALUE=DURATION:PT1H
X-Robots-Tag:noindex
X-PUBLISHED-TTL:PT1H
BEGIN:VTIMEZONE
TZID:Europe/Berlin
BEGIN:DAYLIGHT
TZOFFSETFROM:+0100
TZOFFSETTO:+0200
TZNAME:CEST
DTSTART:20250330T010000
END:DAYLIGHT
BEGIN:STANDARD
TZOFFSETFROM:+0200
TZOFFSETTO:+0100
TZNAME:CET
DTSTART:20251026T010000
END:STANDARD
BEGIN:DAYLIGHT
TZOFFSETFROM:+0100
TZOFFSETTO:+0200
TZNAME:CEST
DTSTART:20260329T010000
END:DAYLIGHT
BEGIN:STANDARD
TZOFFSETFROM:+0200
TZOFFSETTO:+0100
TZNAME:CET
DTSTART:20261025T010000
END:STANDARD
BEGIN:DAYLIGHT
TZOFFSETFROM:+0100
TZOFFSETTO:+0200
TZNAME:CEST
DTSTART:20270328T010000
END:DAYLIGHT
BEGIN:STANDARD
TZOFFSETFROM:+0200
TZOFFSETTO:+0100
TZNAME:CET
DTSTART:20271031T010000
END:STANDARD
END:VTIMEZONE
BEGIN:VEVENT
DTSTART;TZID=Europe/Berlin:20260501T133000
DTEND;TZID=Europe/Berlin:20260501T133000
DTSTAMP:20260425T154311
CREATED:20260421T085925Z
LAST-MODIFIED:20260421T085925Z
UID:2410-1777642200-1777642200@hannoverkids.de
SUMMARY:Lustiges Pettersson und Findus-Mitmachkino 2
DESCRIPTION:13.30 Uhr\, Raschplatzkinos\, www.kinosmraschplatz.de\, (auch 2. & 3.5.)
URL:https://hannoverkids.de/event/lustiges-pettersson-und-findus-mitmachkino-2/
END:VEVENT
BEGIN:VEVENT
DTSTART;TZID=Europe/Berlin:20260501T140000
DTEND;TZID=Europe/Berlin:20260501T140000
DTSTAMP:20260425T154311
CREATED:20260421T085925Z
LAST-MODIFIED:20260421T085925Z
UID:2411-1777644000-1777644000@hannoverkids.de
SUMMARY:Mai-Fest
DESCRIPTION:mit einem hochkarätigen Musikprogramm und dem obligatorischen Kinder- und Kulturprogramm\, internationalen Speisen\, Getränke\, Infostände und vieles mehr\, ab 14 Uhr\, Kulturzentrum Faust e.V.
URL:https://hannoverkids.de/event/mai-fest/
END:VEVENT
BEGIN:VEVENT
DTSTART;TZID=Europe/Berlin:20260501T153000
DTEND;TZID=Europe/Berlin:20260501T153000
DTSTAMP:20260425T154311
CREATED:20260421T085924Z
LAST-MODIFIED:20260421T085924Z
UID:2408-1777649400-1777649400@hannoverkids.de
SUMMARY:Kinderzirkus Giovanni
DESCRIPTION:„Durch eine Achterbahn der Gefühle“\, 11 und 15.30 Uhr\, Zirkuszelt auf der Wiese hinter dem Johanneshof; am Homannhof 10\, Erw. 12 €; Kinder 6 €\, Karten: www.kinderzirkus-giovanni.de\, (auch 2.5. um 11 & 15 Uhr und 3.5. um 11 Uhr)
URL:https://hannoverkids.de/event/kinderzirkus-giovanni-4/
END:VEVENT
BEGIN:VEVENT
DTSTART;TZID=Europe/Berlin:20260501T154500
DTEND;TZID=Europe/Berlin:20260501T154500
DTSTAMP:20260425T154311
CREATED:20260421T085925Z
LAST-MODIFIED:20260421T085925Z
UID:2409-1777650300-1777650300@hannoverkids.de
SUMMARY:Pumuckl und das große Missverständnis
DESCRIPTION:15.45 Uhr\, www.apollokino.de\, (auch 2. & 3.5.)
URL:https://hannoverkids.de/event/pumuckl-und-das-grosse-missverstaendnis/
END:VEVENT
BEGIN:VEVENT
DTSTART;TZID=Europe/Berlin:20260502T100000
DTEND;TZID=Europe/Berlin:20260502T100000
DTSTAMP:20260425T154311
CREATED:20260421T085925Z
LAST-MODIFIED:20260421T085925Z
UID:2412-1777716000-1777716000@hannoverkids.de
SUMMARY:Weiß der Kuckuck
DESCRIPTION:Mit vielen Spielen und Bastel-/ Malaktionen lernen Kinder von 7-11 J. diesen wunderlichen Vogel kennen. 10-14 Uhr\, 4 €\, Anm.: ute-voges@gmx.de\, www.kinderwald.de
URL:https://hannoverkids.de/event/weiss-der-kuckuck/
END:VEVENT
BEGIN:VEVENT
DTSTART;TZID=Europe/Berlin:20260502T100000
DTEND;TZID=Europe/Berlin:20260502T100000
DTSTAMP:20260425T154311
CREATED:20260421T085926Z
LAST-MODIFIED:20260421T085926Z
UID:2414-1777716000-1777716000@hannoverkids.de
SUMMARY:Kreativzone
DESCRIPTION:Für alle von 4- 99 J.\, heute: Brillenkette für die Sonnenbrille\, 10-12 Uhr\, kostenfrei\, ohne Anm.\, Foyer im Lindener Rathaus
URL:https://hannoverkids.de/event/kreativzone-6/
END:VEVENT
BEGIN:VEVENT
DTSTART;TZID=Europe/Berlin:20260502T140000
DTEND;TZID=Europe/Berlin:20260502T140000
DTSTAMP:20260425T154311
CREATED:20260421T085926Z
LAST-MODIFIED:20260421T085926Z
UID:2413-1777730400-1777730400@hannoverkids.de
SUMMARY:Fische\, Farben\, Fantasie
DESCRIPTION:Familien mit Kindern ab 7 J. tauchen ein in die spannende Welt der Ozeane\, Eintritt plus 3 €\, 14-17 Uhr\, Anm.: www.landesmuseum-hannover.de
URL:https://hannoverkids.de/event/fische-farben-fantasie/
END:VEVENT
BEGIN:VEVENT
DTSTART;TZID=Europe/Berlin:20260503T100000
DTEND;TZID=Europe/Berlin:20260503T100000
DTSTAMP:20260425T154311
CREATED:20260421T085941Z
LAST-MODIFIED:20260421T085941Z
UID:2424-1777802400-1777802400@hannoverkids.de
SUMMARY:Tauschmarkt
DESCRIPTION:Deko\, Haushalt\, Sportzubehör\, Spielzeug – keine Kleidung! 10-14 Uhr\, Einkaufspark Klein Buchholz\, Adolf-Emmelman-Str.
URL:https://hannoverkids.de/event/tauschmarkt/
END:VEVENT
BEGIN:VEVENT
DTSTART;TZID=Europe/Berlin:20260503T103000
DTEND;TZID=Europe/Berlin:20260503T103000
DTSTAMP:20260425T154311
CREATED:20260421T085941Z
LAST-MODIFIED:20260421T085941Z
UID:2423-1777804200-1777804200@hannoverkids.de
SUMMARY:Schulbiologiezentrum
DESCRIPTION:zum Mitmachen und Natur erleben für Erwachsene und Kinder\, kostenfrei\, 10.30-12 Uhr\, Vinnhorster Weg 2\, www.schulbiologiezentrum.info
URL:https://hannoverkids.de/event/schulbiologiezentrum-2/
END:VEVENT
BEGIN:VEVENT
DTSTART;TZID=Europe/Berlin:20260503T110000
DTEND;TZID=Europe/Berlin:20260503T110000
DTSTAMP:20260425T154311
CREATED:20260421T085926Z
LAST-MODIFIED:20260421T085926Z
UID:2415-1777806000-1777806000@hannoverkids.de
SUMMARY:Peter und der Wolf
DESCRIPTION:für Kinder ab 4 J.\, 11 Uhr\, Theatermuseum Hannover\, Prinzenstr. 9\, Vorverkauf-Tel.: 99991111
URL:https://hannoverkids.de/event/peter-und-der-wolf-3/
END:VEVENT
BEGIN:VEVENT
DTSTART;TZID=Europe/Berlin:20260503T110000
DTEND;TZID=Europe/Berlin:20260503T110000
DTSTAMP:20260425T154311
CREATED:20260421T085926Z
LAST-MODIFIED:20260421T085926Z
UID:2416-1777806000-1777806000@hannoverkids.de
SUMMARY:Der Dachs hat heute schlechte Laune
DESCRIPTION:Figurentheater Tearticolo spielt eine fröhliche Tiergeschichte für kleine Miesepeter und Muffelköpfe\, 11 Uhr\, Figurentheater Theatrio\, Tickets: www.theatrio.de\, (auch 4.5.\, 10 Uhr)
URL:https://hannoverkids.de/event/der-dachs-hat-heute-schlechte-laune/
END:VEVENT
BEGIN:VEVENT
DTSTART;TZID=Europe/Berlin:20260503T171000
DTEND;TZID=Europe/Berlin:20260503T171000
DTSTAMP:20260425T154311
CREATED:20260421T085926Z
LAST-MODIFIED:20260421T085926Z
UID:2417-1777828200-1777828200@hannoverkids.de
SUMMARY:Harlem Globetrotters
DESCRIPTION:Basketball-Ikonen live – 100 Jahre Harlem Globetrotters\, 100 % Familien-Action! 17.10 Uhr\, ZAG Arena\, www.hannover-concerts.de
URL:https://hannoverkids.de/event/harlem-globetrotters/
END:VEVENT
BEGIN:VEVENT
DTSTART;TZID=Europe/Berlin:20260504T100000
DTEND;TZID=Europe/Berlin:20260504T100000
DTSTAMP:20260425T154311
CREATED:20260421T085941Z
LAST-MODIFIED:20260421T085941Z
UID:2426-1777888800-1777888800@hannoverkids.de
SUMMARY:Eltern-Kind-Treff
DESCRIPTION:Informationsaustausch und Spiel-Treff für Eltern mit Kindern von 0-3 J.\, 10-12 Uhr\, kostenfrei\, einfach vorbeikommen\, Bürgerhaus Misburg\, Seckbruch Str. 20\, (jed. Mo.)
URL:https://hannoverkids.de/event/eltern-kind-treff-4/
END:VEVENT
BEGIN:VEVENT
DTSTART;TZID=Europe/Berlin:20260504T160000
DTEND;TZID=Europe/Berlin:20260504T160000
DTSTAMP:20260425T154311
CREATED:20260421T085941Z
LAST-MODIFIED:20260421T085941Z
UID:2425-1777910400-1777910400@hannoverkids.de
SUMMARY:Kamishibai
DESCRIPTION:Erzähltheater mit großen Bildkarten für Kinder ab 3 J.\, kostenfrei\, ohne Anm.\, 16 Uhr\, Stabi Hildesheimer Str.12.\, (jed. Mo.)
URL:https://hannoverkids.de/event/kamishibai/
END:VEVENT
BEGIN:VEVENT
DTSTART;TZID=Europe/Berlin:20260505T160000
DTEND;TZID=Europe/Berlin:20260505T160000
DTSTAMP:20260425T154311
CREATED:20260421T085956Z
LAST-MODIFIED:20260421T085956Z
UID:2428-1777996800-1777996800@hannoverkids.de
SUMMARY:Kung Fu
DESCRIPTION:16 Uhr für Kinder von 3\,5-6 J.\, 17 Uhr für Kinder von 7-9 J.\, 18 Uhr für Kinder von 10-14 J.\, Sportakademie Dr. Lee\, kostenlose Probestunde und Voranmeldung: www.sport-lee.de oder 0511/ 44 13 43 (jed. Mo. + Mi.\, und Di. + Do.)
URL:https://hannoverkids.de/event/kung-fu-4/
END:VEVENT
BEGIN:VEVENT
DTSTART;TZID=Europe/Berlin:20260505T163000
DTEND;TZID=Europe/Berlin:20260505T163000
DTSTAMP:20260425T154311
CREATED:20260421T085941Z
LAST-MODIFIED:20260421T085941Z
UID:2427-1777998600-1777998600@hannoverkids.de
SUMMARY:Ein Brief. Eine Begegnung.
DESCRIPTION:Und eine Geschichte\, die alles verändert. Bilderbuchkino für Kinder ab 4 J.\, kostenfrei\, ohne Anm.\, 16.30 Uhr\, Stabi im STZ KroKuS
URL:https://hannoverkids.de/event/ein-brief-eine-begegnung/
END:VEVENT
BEGIN:VEVENT
DTSTART;TZID=Europe/Berlin:20260505T173000
DTEND;TZID=Europe/Berlin:20260505T173000
DTSTAMP:20260425T154311
CREATED:20260421T085956Z
LAST-MODIFIED:20260421T085956Z
UID:2429-1778002200-1778002200@hannoverkids.de
SUMMARY:Outdoor Finess
DESCRIPTION:mit Kind und Kinderwagen\, 17.30 Uhr\, Südstadt Hoppenstedtwiese\, (Präventionskurs\, flexibler Kartenkurs oder Hansefit)\, weitere Termine und Kursorte bei Steffi (0178/8630995\, Steffi-hannover@laufmamalauf.de) und www.laufmamalauf.de\, (jed. Di.)
URL:https://hannoverkids.de/event/outdoor-finess-3/
END:VEVENT
BEGIN:VEVENT
DTSTART;TZID=Europe/Berlin:20260506T100000
DTEND;TZID=Europe/Berlin:20260506T100000
DTSTAMP:20260425T154311
CREATED:20260421T085956Z
LAST-MODIFIED:20260421T085956Z
UID:2431-1778061600-1778061600@hannoverkids.de
SUMMARY:Griffbereit
DESCRIPTION:Anregungen für gemeinsame Finger- und Bewegungsspiele\, malen\, reimen\, singen\, sowie Informationen zu Gesundheits- und Alltagsfragen\, für Eltern und Kinder ab 1 Jahr\, 10-12 Uhr\, ohne Anm.\, STZ Ricklingen\, (jed. Mi.)
URL:https://hannoverkids.de/event/griffbereit-3/
END:VEVENT
BEGIN:VEVENT
DTSTART;TZID=Europe/Berlin:20260506T150000
DTEND;TZID=Europe/Berlin:20260506T150000
DTSTAMP:20260425T154311
CREATED:20260421T085956Z
LAST-MODIFIED:20260421T085956Z
UID:2430-1778079600-1778079600@hannoverkids.de
SUMMARY:Palettengarten
DESCRIPTION:für Eltern mit Kindern oder Erw.\, die Lust an der Arbeit mit Pflanzen haben. 15-17 Uhr\, kostenlos\, ohne Anm.\, Bürgerhaus Misburg\, (jed. Mi.)
URL:https://hannoverkids.de/event/palettengarten-3/
END:VEVENT
BEGIN:VEVENT
DTSTART;VALUE=DATE:20260507
DTEND;VALUE=DATE:20260508
DTSTAMP:20260425T154311
CREATED:20260421T090011Z
LAST-MODIFIED:20260421T090011Z
UID:2435-1778112000-1778198399@hannoverkids.de
SUMMARY:Geowissenschaftliche Fundberatung
DESCRIPTION:Stein ist nicht gleich Stein\, kostenfrei\, je Besucher*in 3 Objekte\, Kinder 5\, ohne Anm.\, www.landesmuseum-hannover.de
URL:https://hannoverkids.de/event/geowissenschaftliche-fundberatung/
END:VEVENT
BEGIN:VEVENT
DTSTART;VALUE=DATE:20260507
DTEND;VALUE=DATE:20260508
DTSTAMP:20260425T154311
CREATED:20260421T090011Z
LAST-MODIFIED:20260421T090011Z
UID:2433-1778112000-1778198399@hannoverkids.de
SUMMARY:Babys in der Bibliothek
DESCRIPTION:Fingerspiele\, Lieder\, Bücher für Krabbelkinder\, kostenfrei\, Anm.-Tel.: 168 44237\, Stabi Kleefeld
URL:https://hannoverkids.de/event/babys-in-der-bibliothek-2/
END:VEVENT
BEGIN:VEVENT
DTSTART;TZID=Europe/Berlin:20260507T160000
DTEND;TZID=Europe/Berlin:20260507T160000
DTSTAMP:20260425T154311
CREATED:20260421T085956Z
LAST-MODIFIED:20260421T085956Z
UID:2432-1778169600-1778169600@hannoverkids.de
SUMMARY:Rosalein Schmetterschwein
DESCRIPTION:Bilderbuchkino für Kinder ab 4 J.\, kostenfrei\, ohne Anm.\, 16 Uhr\, Stabi Kleefeld
URL:https://hannoverkids.de/event/rosalein-schmetterschwein/
END:VEVENT
BEGIN:VEVENT
DTSTART;TZID=Europe/Berlin:20260507T163000
DTEND;TZID=Europe/Berlin:20260507T163000
DTSTAMP:20260425T154311
CREATED:20260421T090011Z
LAST-MODIFIED:20260421T090011Z
UID:2434-1778171400-1778171400@hannoverkids.de
SUMMARY:Offenes Schach-Angebot
DESCRIPTION:für Groß und Klein\, 16.30-20 Uhr\, ohne Anm.\, kostenfrei\, STZ KroKuS
URL:https://hannoverkids.de/event/offenes-schach-angebot/
END:VEVENT
BEGIN:VEVENT
DTSTART;TZID=Europe/Berlin:20260507T170000
DTEND;TZID=Europe/Berlin:20260507T170000
DTSTAMP:20260425T154311
CREATED:20260421T090011Z
LAST-MODIFIED:20260421T090011Z
UID:2436-1778173200-1778173200@hannoverkids.de
SUMMARY:Feierabendspaziergang
DESCRIPTION:nach Feierabend\, mit der Familie\, mit Freunden oder allein – alle sind willkommen. 17-19 Uhr\, kostenfrei\, Anmeldung erwünscht! Tel.: 168 49595\, www.fzh-ricklingen.de
URL:https://hannoverkids.de/event/feierabendspaziergang/
END:VEVENT
BEGIN:VEVENT
DTSTART;TZID=Europe/Berlin:20260508T093000
DTEND;TZID=Europe/Berlin:20260508T093000
DTSTAMP:20260425T154311
CREATED:20260421T090041Z
LAST-MODIFIED:20260421T090041Z
UID:2443-1778232600-1778232600@hannoverkids.de
SUMMARY:Outdoor Finess
DESCRIPTION:mit Kind und Kinderwagen\, 9.30 Uhr\, Treffpunkt: Amtspark Burgwedel\, alle Präventionskurs buchbar über Krankenkassen oder per Hansefit\, weitere Termine und Kursorte bei Inna (0159/02412174)\, innasiebert@gmx.de) und www.laufmamalauf.de\, (jed. Fr.)
URL:https://hannoverkids.de/event/outdoor-finess-4/
END:VEVENT
BEGIN:VEVENT
DTSTART;TZID=Europe/Berlin:20260508T110000
DTEND;TZID=Europe/Berlin:20260508T110000
DTSTAMP:20260425T154311
CREATED:20260421T090026Z
LAST-MODIFIED:20260421T090026Z
UID:2442-1778238000-1778238000@hannoverkids.de
SUMMARY:Frühlingsmarkt
DESCRIPTION:mit handgefertigten Produkten und handgezogenen Jungpflanzen & Kräutern. Hinter jedem Artikel steht die Arbeit eines Menschen mit Taubblindheit/Hörsehbehinderung. Zusätzlich gibt es ein tolles Familienprogramm u.a. mit Clownin Barbalotta.11-17 Uhr\, Deutsches Taubblindenwerk in HannoverKirchrode
URL:https://hannoverkids.de/event/fruehlingsmarkt/
END:VEVENT
BEGIN:VEVENT
DTSTART;TZID=Europe/Berlin:20260508T150000
DTEND;TZID=Europe/Berlin:20260508T150000
DTSTAMP:20260425T154311
CREATED:20260421T090026Z
LAST-MODIFIED:20260421T090026Z
UID:2441-1778252400-1778252400@hannoverkids.de
SUMMARY:Eltern-Kind-Tanzkurs
DESCRIPTION:(2-4 J.)\, 15-15.50 Uhr\, Kristina Dörr\, 10 Termine\, www.flow-wedemark.de
URL:https://hannoverkids.de/event/eltern-kind-tanzkurs/
END:VEVENT
BEGIN:VEVENT
DTSTART;TZID=Europe/Berlin:20260508T150000
DTEND;TZID=Europe/Berlin:20260508T150000
DTSTAMP:20260425T154311
CREATED:20260421T090026Z
LAST-MODIFIED:20260421T090026Z
UID:2438-1778252400-1778252400@hannoverkids.de
SUMMARY:Spielenachmittag für Kids
DESCRIPTION:Es geht um kooperative Spiele und den gemeinsamen Sieg über das Spiel. Für alle ab 6 J.\, kostenfrei\, ohne Anm.\, 15-16.45 Uhr\, Stabi Kleefeld
URL:https://hannoverkids.de/event/spielenachmittag-fuer-kids/
END:VEVENT
BEGIN:VEVENT
DTSTART;TZID=Europe/Berlin:20260508T170000
DTEND;TZID=Europe/Berlin:20260508T170000
DTSTAMP:20260425T154311
CREATED:20260421T090011Z
LAST-MODIFIED:20260421T090011Z
UID:2437-1778259600-1778259600@hannoverkids.de
SUMMARY:Kuscheltierübernachtung
DESCRIPTION:Gemeinsam werden Bücher geschaut (17-18 Uhr) und die Kuscheltiere übernachten dann in der Stabi. Sie können am 9.5. um 11 Uhr abgeholt werden. Kostenfrei\, Anm.: Stabi im STZ KroKus\, @ stadtbibliothek-kronsberg@hannover-stadt.de
URL:https://hannoverkids.de/event/kuscheltieruebernachtung/
END:VEVENT
BEGIN:VEVENT
DTSTART;TZID=Europe/Berlin:20260508T180000
DTEND;TZID=Europe/Berlin:20260508T180000
DTSTAMP:20260425T154311
CREATED:20260421T090026Z
LAST-MODIFIED:20260421T090026Z
UID:2440-1778263200-1778263200@hannoverkids.de
SUMMARY:Einweihungsfest
DESCRIPTION:auf dem Stadtteilbauernhof\, 15 bis 18 Uhr\, Eröffnung des neues Erweiterungsbäudes im Rahmen des Tages der Städtebauförderung. Aktionen: Butter schütteln\, Wolle waschen\, kämmen\, filzen und vieles mehr. Für alle Altersgruppen\, Rumpelstilzchenweg 5\, www.stadtteilbauernhof-hannover.de
URL:https://hannoverkids.de/event/einweihungsfest/
END:VEVENT
END:VCALENDAR